BEGIN:VCALENDAR
VERSION:2.0
PRODID:-//ChamberMaster//Event Calendar 2.0//EN
METHOD:PUBLISH
X-PUBLISHED-TTL:P3D
REFRESH-INTERVAL:P3D
CALSCALE:GREGORIAN
BEGIN:VEVENT
DTSTART:20100929T040000Z
DTEND:20100929T040000Z
X-MICROSOFT-CDO-ALLDAYEVENT:FALSE
SUMMARY:International Advisory Council 2010
DESCRIPTION:
X-ALT-DESC;FMTTYPE=text/html:
LOCATION:Charleston Area Alliance
UID:e.1499.371
SEQUENCE:3
DTSTAMP:20260425T125440Z
URL:https://business.charlestonareaalliance.org/events/details/international-advisory-council-2010-09-29-2010-371
END:VEVENT

END:VCALENDAR
