BEGIN:VCALENDAR
VERSION:2.0
PRODID:-//ChamberMaster//Event Calendar 2.0//EN
METHOD:PUBLISH
X-PUBLISHED-TTL:P3D
REFRESH-INTERVAL:P3D
CALSCALE:GREGORIAN
BEGIN:VEVENT
DTSTART:20121003T160000Z
DTEND:20121003T171500Z
X-MICROSOFT-CDO-ALLDAYEVENT:FALSE
SUMMARY:Inclusion=Innovation - Brand Conversations Oct 2012
DESCRIPTION:Social media and changing demographics have upended traditional one-way communication for business. Engaging with today's customers and employees today demands authenticity  and transparency. And nowhere are the stakes higher than in relationships with young professionals and those from diverse backgrounds.  \n\n	 \n\n	"We are not seats or eyeballs or end users or customers.  We are human beings   and our reach exceeds your grasp.  Deal with it\," says "The Cluetrain Manifesto:  The End of Business as Usual."\n\n	 \n\n	"Brand Conversations\," to be presented by the Charleston Area Alliance and Ernst & Young\, will showcase ways local businesses are communicating their core values and ensure they not only talk the talk\, but walk the walk with clients and employees.    \n\n	 \n\n	The program\, part of the Alliance's "inclusion=innovation" series\, will be held at noon\, Wednesday\, Oct. 3\, at the Sugar Maple Caf  located at Cabela's. \n\n	 \n\n	Speakers include: \n\n	  Crystal Good\, Director of Brand Experience\, Mythology Marketing\n\n	  Skip Lineberg\, Chief Innovation Officer\, Spilman\, Thomas & Battle\n\n	  Dr. Donna Panucci\, Pannuci & Jaffert DDS\n\n	  Susan Wheeler\, Ernst & Young \n\n	 \n\n	The goal mission of the Alliance "inclusion=innovation" initiative\, presented by title sponsor Ernst & Young\,  is to promote innovation and collaboration by helping businesses and our region benefit from the diverse contributions of all segments of our community. \n\n	 \n\n	\n\n	Registration Information:\n\n	Registration\, which includes lunch\, is $15 for Alliance members\, $25 for future members through Sept. 27. Purchase tickets online here.\n\n	 \n\n	The Alliance will be able to invoice only for groups of 10 or more.\n\n	Contact Deb Coffman for more information. \n\n	 \n\n	Please note: The Alliance cannot issue cancelation refunds within 48 hours of the event.
X-ALT-DESC;FMTTYPE=text/html:<div>\n	Social media and changing demographics have upended traditional one-way communication for business. Engaging with today&rsquo\;s customers and employees today demands authenticity &nbsp\;and transparency. And nowhere are the stakes higher than in relationships with young professionals and those from diverse backgrounds. &nbsp\;</div>\n<div>\n	&nbsp\;</div>\n<div>\n	&ldquo\;We are not seats or eyeballs or end users or customers. &nbsp\;We are human beings &ndash\; and our reach exceeds your grasp. &nbsp\;Deal with it\,&rdquo\; says &ldquo\;The Cluetrain Manifesto: &nbsp\;The End of Business as Usual.&rdquo\;</div>\n<div>\n	&nbsp\;</div>\n<div>\n	&ldquo\;Brand Conversations\,&rdquo\; to be presented by the Charleston Area Alliance and Ernst &amp\; Young\, will showcase ways local businesses are communicating their core values and ensure they not only talk the talk\, but walk the walk with clients and employees. &nbsp\; &nbsp\;</div>\n<div>\n	&nbsp\;</div>\n<div>\n	The program\, part of the Alliance&rsquo\;s &ldquo\;inclusion=innovation&rdquo\; series\, will be held at noon\, Wednesday\, Oct. 3\, at the Sugar Maple Caf&eacute\; located at Cabela&rsquo\;s.&nbsp\;</div>\n<div>\n	&nbsp\;</div>\n<div>\n	Speakers include:&nbsp\;</div>\n<div>\n	&bull\;<span class="Apple-tab-span" style="white-space: pre"> </span>Crystal Good\, Director of Brand Experience\, Mythology Marketing</div>\n<div>\n	&bull\;<span class="Apple-tab-span" style="white-space: pre"> </span>Skip Lineberg\, Chief Innovation Officer\, Spilman\, Thomas &amp\; Battle</div>\n<div>\n	&bull\;<span class="Apple-tab-span" style="white-space: pre"> </span>Dr. Donna Panucci\, Pannuci &amp\; Jaffert DDS</div>\n<div>\n	&bull\;<span class="Apple-tab-span" style="white-space: pre"> </span>Susan Wheeler\, Ernst &amp\; Young&nbsp\;<br />\n	&nbsp\;</div>\n<div>\n	The goal mission of the Alliance &ldquo\;inclusion=innovation&rdquo\; initiative\, presented by title sponsor Ernst &amp\; Young\, &nbsp\;is to promote innovation and collaboration by helping businesses and our region benefit from the diverse contributions of all segments of our community.&nbsp\;</div>\n<div>\n	&nbsp\;</div>\n<div>\n	<br />\n	<span style="font-size: 14px"><strong><span style="color: #b22222">Registration Information:</span></strong></span><br />\n	Registration\, which includes lunch\, is $15 for Alliance members\, $25 for future members through Sept. 27. Purchase tickets online <a href="http://old.charlestonareaalliance.org/events/detail.aspx?Eventid=894">here</a>.</div>\n<div>\n	&nbsp\;</div>\n<div>\n	The Alliance will be able to invoice only for groups of 10 or more.<br />\n	Contact <a href="mailto:DCoffman@charlestonareaalliance.org?subject=Inclusion%3DInnovation%20Event%20Inquiry">Deb Coffman </a>for more information.&nbsp\;</div>\n<div>\n	&nbsp\;</div>\n<div>\n	Please note: The Alliance cannot issue cancelation refunds within 48 hours of the event.&nbsp\;&nbsp\;&nbsp\;&nbsp\;&nbsp\;&nbsp\;</div>\n
LOCATION:Sugar Maple Cafe inside Cabela's 200 Cross Terrace Blvd. Charleston WV 25309
UID:e.1499.509
SEQUENCE:3
DTSTAMP:20260422T185602Z
URL:https://business.charlestonareaalliance.org/events/details/inclusion-innovation-brand-conversations-oct-2012-10-03-2012-509
END:VEVENT

END:VCALENDAR
