BEGIN:VCALENDAR
VERSION:2.0
PRODID:-//ChamberMaster//Event Calendar 2.0//EN
METHOD:PUBLISH
X-PUBLISHED-TTL:P3D
REFRESH-INTERVAL:P3D
CALSCALE:GREGORIAN
BEGIN:VEVENT
DTSTART:20170428T193000Z
DTEND:20170428T200000Z
X-MICROSOFT-CDO-ALLDAYEVENT:FALSE
SUMMARY:House of Hounds Ribbon Cutting
DESCRIPTION:House of Hounds will mark the opening of its Charleston location at 111 Lee Street East with a ribbon cutting at 3:30 p.m. Friday\, April 28.\n\n \n\n"We'd like to congratulate the House of Hounds on its second location and its continued growth throughout the Kanawha Valley\," said Matt Ballard\, CEO of the Charleston Area Alliance.\n\n\n\nFollowing the ribbon-cutting\, House of Hounds will host an open house in conjunction with the third annual Hair of the Dog. From 7-9pm at House of Hounds\, guest can enjoy free appetizers\, drinks\, entertainment\, a fire pit and music with a live DJ. As always\, your K9 friends are welcome! \n\n \n\nHouse of Hounds is a pet boutique\, professional grooming salon\, cage-free daycare and boarding center. House of Hounds opened its doors in Nitro 11 years ago and offers the highest standard in pet care with a professionally trained and compassionate staff. The company recently added the Lee Street location to expand the reach and services offered.\n\n \n\nAt House of Hounds\, dogs and cats are never caged or confined to a small area while being boarded or in doggy daycare. The facility is creatively designed to offer pets a fun\, safe environment to play while their owners are away.\n\n \n\nHouse of Hounds offers a wide-array of grooming services\, from radical transformations to simple variations. House of Hounds certified groomers highlight its pet clients' classic beauty with a contemporary style.
X-ALT-DESC;FMTTYPE=text/html:House of Hounds will mark the opening of its Charleston location at 111 Lee Street East with a ribbon cutting at 3:30 p.m. Friday\, April 28.<br />\n&nbsp\;<br />\n&ldquo\;We&rsquo\;d like to congratulate the House of Hounds on its second location and its continued growth throughout the Kanawha Valley\,&rdquo\; said Matt Ballard\, CEO of the Charleston Area Alliance.<br />\n<br />\nFollowing the ribbon-cutting\, House of Hounds will host an open house in conjunction with the third annual Hair of the Dog. From&nbsp\;7-9pm&nbsp\;at House of Hounds\, guest can enjoy free appetizers\, drinks\, entertainment\, a fire pit and music with a live DJ. As always\, your K9 friends are welcome!&nbsp\;<br />\n&nbsp\;<br />\nHouse of Hounds is a pet boutique\, professional grooming salon\, cage-free daycare and boarding center. House of Hounds opened its doors in Nitro 11 years ago and offers the highest standard in pet care with a professionally trained and compassionate staff. The company recently added the Lee Street location to expand the reach and services offered.<br />\n&nbsp\;<br />\nAt House of Hounds\, dogs and cats are never caged or confined to a small area while being boarded or in doggy daycare. The facility is creatively designed to offer pets a fun\, safe environment to play while their owners are away.<br />\n&nbsp\;<br />\nHouse of Hounds offers a wide-array of grooming services\, from radical transformations to simple variations. House of Hounds certified groomers highlight its pet clients&rsquo\; classic beauty with a contemporary style.&nbsp\;<br />\n&nbsp\;
LOCATION:1111 Lee Street East Charleston\, WV 25301
UID:e.1499.1934
SEQUENCE:3
DTSTAMP:20260419T214929Z
URL:https://business.charlestonareaalliance.org/events/details/house-of-hounds-ribbon-cutting-1934
END:VEVENT

END:VCALENDAR
