BEGIN:VCALENDAR
VERSION:2.0
PRODID:-//ChamberMaster//Event Calendar 2.0//EN
METHOD:PUBLISH
X-PUBLISHED-TTL:P3D
REFRESH-INTERVAL:P3D
CALSCALE:GREGORIAN
BEGIN:VEVENT
DTSTART:20150825T133000Z
DTEND:20150825T150000Z
X-MICROSOFT-CDO-ALLDAYEVENT:FALSE
SUMMARY:Hong Kong Trade Breakfast
DESCRIPTION:Come have breakfast (no charge) and learn about trade opportunities between West Virginia and Hong Kong.\n\n\n\nThe Charleston Area Alliance will be hosting Mr. Steven Barclay of the Hong Kong Economic and Trade Office. Mr. Barclay has served with the Hong Kong Government for 36 years.  (Eighteen (18) years prior to the handover and 18 years since.)  This gives him a very interesting\, unique perspective on the dynamics of the Hong Kong Government and Hong Kong's economy.  Mr. Barclay will talk to the opportunities that exist between West Virginia and Hong Kong.
X-ALT-DESC;FMTTYPE=text/html:<span style="font-size: medium\;"><span style="font-family: calibri\;">Come have breakfast (no charge) and learn about trade opportunities between West Virginia and Hong Kong.<br />\n<br />\nThe Charleston Area Alliance will be hosting Mr. Steven Barclay of the Hong Kong Economic and Trade Office. </span></span><span style="font-size: medium\;"><span style="font-family: calibri\;">Mr. Barclay has served with the Hong Kong Government for 36 years. &nbsp\;(Eighteen (18) years prior to the handover and 18 years since.) &nbsp\;This gives him a very interesting\, unique perspective on the dynamics of the Hong Kong Government and Hong Kong&rsquo\;s economy. &nbsp\;Mr. Barclay will talk to the opportunities that exist between West Virginia and Hong Kong.</span></span><br />\n&nbsp\;
LOCATION:The Charleston Area Alliance at 1116 Smith Street\, Charleston\, WV 25301
UID:e.1499.803
SEQUENCE:3
DTSTAMP:20260421T015656Z
URL:https://business.charlestonareaalliance.org/events/details/hong-kong-trade-breakfast-08-25-2015-803
END:VEVENT

END:VCALENDAR
