BEGIN:VCALENDAR
VERSION:2.0
PRODID:-//ChamberMaster//Event Calendar 2.0//EN
METHOD:PUBLISH
X-PUBLISHED-TTL:P3D
REFRESH-INTERVAL:P3D
CALSCALE:GREGORIAN
BEGIN:VEVENT
DTSTART:20211001T040000Z
DTEND:20211001T160000Z
X-MICROSOFT-CDO-ALLDAYEVENT:FALSE
SUMMARY:Holiday Window Display Contest Registration 2021
DESCRIPTION:Make your Storefront Shine this Holiday Season!\n\n\n\nLet's fill the streets with holiday cheer! Decorate your business windows and facades with your best holiday look. Twinkling lights? Glistening snowflakes? Candy canes and gum drops? Choose any theme you wish! This year's contest is the perfect opportunity to highlight your business and provide beautiful holiday scenery to Charleston.\n\n\n\nBusinesses will compete within their districts for the People's Choice Award. A panel of judges will select a city-wide Best in Show.\n\n\n\nContest Schedule:\n\n	October 1 - Registration Opens\n	November 23 - Registration Deadline\n	November 26 - People's Choice Voting Begins\n	December 15 - People's Choice Voting Ends\n	December 17 - All Winners Announced\n\nAward Categories:\n\n\n	People's Choice Award: Downtown\, East End\, Kanawha City\, South Hills/Bridge Road\, West Side\n	Best in Show\n\nGuidelines:\n\n\n	Contest is FREE of charge.\n	Registration closes on November 23. If you are not registered by that date\, you will not be eligible for the People's Choice or Best in Show Awards.\n	Displays must be completed no later than November 26.\n	Lights\, movement and unusual materials are encouraged.\n\n\nRegister Today at https://bit.ly/2Y7GFow
X-ALT-DESC;FMTTYPE=text/html:<br />\n<span style="font-size:18px\;"><span style="color:#FF0000\;"><strong>Make your Storefront Shine this&nbsp\;Holiday Season!</strong></span></span><br />\n<br />\nLet&#39\;s fill the streets with holiday cheer! Decorate your business windows and facades with your best holiday look. Twinkling lights? Glistening snowflakes? Candy canes and gum drops? Choose any theme you wish! This year&#39\;s contest is the perfect opportunity to highlight your business and provide beautiful holiday scenery to Charleston.<br />\n<br />\nBusinesses will compete within their districts for the People&#39\;s Choice Award. A panel of judges will select a city-wide Best in Show.<br />\n<br />\n<strong>Contest Schedule:</strong>\n<ul>\n	<li>October 1 - Registration Opens</li>\n	<li>November 23 - Registration Deadline</li>\n	<li>November 26 - People&#39\;s Choice Voting Begins</li>\n	<li>December 15 - People&#39\;s Choice Voting Ends</li>\n	<li>December 17 - All Winners Announced</li>\n</ul>\n<strong>Award Categories:</strong>\n\n<ul>\n	<li>People&#39\;s Choice Award: Downtown\, East End\, Kanawha City\, South Hills/Bridge Road\, West Side</li>\n	<li>Best in Show</li>\n</ul>\n<strong>Guidelines:</strong>\n\n<ul>\n	<li>Contest is FREE of charge.</li>\n	<li>Registration closes on November 23. If you are not registered by that date\, you will not be eligible for the People&#39\;s Choice or Best in Show Awards.</li>\n	<li>Displays must be completed no later than November 26.</li>\n	<li>Lights\, movement and unusual materials are encouraged.</li>\n</ul>\n\n<p>Register Today at&nbsp\;<span style="font-family:calibri\,sans-serif\;"><span style="font-size:11.0pt\;"><a href="https://bit.ly/2Y7GFow">https://bit.ly/2Y7GFow</a></span></span> &nbsp\;<br />\n&nbsp\;</p>\n
LOCATION:Downtown Charleston\, East End\, Kanawha City\, South Hills/Bridge Road\, West Side
UID:e.1499.5195
SEQUENCE:3
DTSTAMP:20260420T121020Z
URL:https://business.charlestonareaalliance.org/events/details/holiday-window-display-contest-registration-2021-5195
END:VEVENT

END:VCALENDAR
