BEGIN:VCALENDAR
VERSION:2.0
PRODID:-//ChamberMaster//Event Calendar 2.0//EN
METHOD:PUBLISH
X-PUBLISHED-TTL:P3D
REFRESH-INTERVAL:P3D
CALSCALE:GREGORIAN
BEGIN:VEVENT
DTSTART;VALUE=DATE:20171015
DTEND;VALUE=DATE:20171119
TRANSP:TRANSPARENT
X-MICROSOFT-CDO-ALLDAYEVENT:TRUE
SUMMARY:Holiday Window Display Contest Registration 2017
DESCRIPTION:Are you ready to dazzle? This holiday season downtown businesses\, as well as businesses throughout the Kanawha Valley\, are encouraged to decorate downtown windows with colorful and festive displays.\n\n\n\nWhether you inspire onlookers with twinkling lights\, give them toothaches with gigantic candy canes or take them through a whimsical journey   the holiday window display competition will surely draw the masses to come downtown and shop small.\n\n\n\nIf you are a downtown business with a physical storefront\, dress up your windows with a holiday makeover. If your business does not have a downtown brick and mortar presence\, you can still participate by partnering with an existing downtown business to create a winter wonderland. Businesses can also team up with artists\, schools\, churches and nonprofits to create a one-of-a-kind display. \n\n\n\nAward Categories:\n\n	Best Overall\n	Best Use of Product or Merchandise\n	Best Theme\n	Most Original\n	People's Choice\n\n\nWinner of the Holiday Window Display Contest People's Choice Award will receive an advertising package from WCHS-TV.\n\n\n\nParticipating businesses are encouraged to use white LED lights   tying into the Charleston Convention & Visitors Bureau's Light Up Charleston initiative   to bring the window vignettes to life. For more information on Light Up Charleston\, contact Samantha Carney\, Charleston CVB sports and special events manager.  \n\n\n\nClick here  for Holiday Window Display Contest guidelines.
X-ALT-DESC;FMTTYPE=text/html:<br />\nAre you ready to dazzle? This holiday season downtown businesses\, as well as businesses throughout the Kanawha Valley\, are encouraged to decorate downtown windows with&nbsp\;colorful and festive displays.<br />\n<br />\nWhether you inspire onlookers with twinkling lights\, give them toothaches with gigantic candy canes or take&nbsp\;them through a whimsical journey &ndash\; the holiday window display competition will surely draw the masses to come downtown and shop small.<br />\n<br />\nIf you are a downtown business with a physical storefront\, dress up your windows with a holiday makeover. If your business does not have a downtown brick and mortar presence\, you can still participate by partnering with an existing downtown business to create a winter wonderland. Businesses can also team up with artists\, schools\, churches and nonprofits to create a one-of-a-kind display.&nbsp\;<br />\n<br />\nAward Categories:\n<ul>\n	<li>Best Overall</li>\n	<li>Best Use of Product or Merchandise</li>\n	<li>Best Theme</li>\n	<li>Most Original</li>\n	<li>People&rsquo\;s Choice</li>\n</ul>\n\n<p>Winner of the Holiday Window Display&nbsp\;Contest People&rsquo\;s Choice Award will receive an advertising package from WCHS-TV.<br />\n<br />\nParticipating businesses are encouraged to use white LED lights &ndash\; tying into the Charleston Convention &amp\; Visitors Bureau&rsquo\;s Light Up Charleston initiative &ndash\; to bring the window vignettes to life. For more information on Light Up Charleston\, contact&nbsp\;<a href="mailto:Light Up Charleston">Samantha Carney</a>\, Charleston CVB sports and special events manager.&nbsp\;&nbsp\;<br />\n<br />\n<a href="https://chambermaster.blob.core.windows.net/userfiles/UserFiles/chambers/1499/File/HolidayWindowDisplayContestRules4.pdf">Click here</a> &nbsp\;for Holiday Window Display Contest guidelines.&nbsp\;</p>\n
LOCATION:Downtown Charleston
UID:e.1499.1972
SEQUENCE:3
DTSTAMP:20260419T140209Z
URL:https://business.charlestonareaalliance.org/events/details/holiday-window-display-contest-registration-2017-1972
END:VEVENT

END:VCALENDAR
