BEGIN:VCALENDAR
VERSION:2.0
PRODID:-//ChamberMaster//Event Calendar 2.0//EN
METHOD:PUBLISH
X-PUBLISHED-TTL:P3D
REFRESH-INTERVAL:P3D
CALSCALE:GREGORIAN
BEGIN:VEVENT
DTSTART:20161116T170000Z
DTEND:20161116T180000Z
X-MICROSOFT-CDO-ALLDAYEVENT:FALSE
SUMMARY:HealthSmart presents Creatively Navigating the World of Health Insurance
DESCRIPTION:Providing health benefits is a costly responsibility. But when businesses and employers work hand-in-hand to determine the best options and develop healthy habits\, we all see the benefits.\n\n\n\nThe Charleston Area Alliance and HealthSmart invite you to a special luncheon November 16 as we discuss creatively navigating the world of health insurance. Learn about making informed choices and how we can work together to decrease the costs of providing top-notch treatments. And enjoy a delicious and nutritious meal while you're at it.
X-ALT-DESC;FMTTYPE=text/html:<span style="font-size: 14pt\;">Providing health benefits is a costly responsibility. But when businesses and employers work hand-in-hand to determine the best options and develop healthy habits\, we all see the benefits.</span><br />\n<br />\n<span style="font-size: 14pt\;">The Charleston Area Alliance and HealthSmart invite you to a special luncheon November 16 as we discuss creatively navigating the world of health insurance. Learn about making informed choices and how we can work together to decrease the costs of providing top-notch treatments.</span>&nbsp\;<span style="font-size: 14pt\;">And enjoy a delicious and nutritious meal while you&rsquo\;re at it.</span><br />\n&nbsp\;
LOCATION:Charleston Area Alliance Large Conference Room
UID:e.1499.1885
SEQUENCE:3
DTSTAMP:20260420T041351Z
URL:https://business.charlestonareaalliance.org/events/details/healthsmart-presents-creatively-navigating-the-world-of-health-insurance-1885
END:VEVENT

END:VCALENDAR
