BEGIN:VCALENDAR
VERSION:2.0
PRODID:-//ChamberMaster//Event Calendar 2.0//EN
METHOD:PUBLISH
X-PUBLISHED-TTL:P3D
REFRESH-INTERVAL:P3D
CALSCALE:GREGORIAN
BEGIN:VEVENT
DTSTART:20131017T220000Z
DTEND:20131018T010000Z
X-MICROSOFT-CDO-ALLDAYEVENT:FALSE
SUMMARY:Harvest Hoe-Down October 2013
DESCRIPTION:Join enthusiasts of the local food economy for a celebratory gathering of local food\, local music and local growth.  SAGE agripreneurs\, members of the Kanawha Valley CSA and members of the Kanawha Urban Agriculture Alliance are hosting the event and will be on hand to discuss opportunities in local food.\n\n	The Harvest Hoe-Down will take place Thursday\, October 17th on-site at the West Side Farmers' Market located at the intersection of Washington Street West and Beatrice Street.  The Hoe-Down will begin at 6pm.\n\n	SAGE agripreneur\, April Hamilton of April's Kitchen\, will be catering the event using produce from the SAGE MicroFarm and Kanawha Valley CSA's Hudson Farm location.  Dinner will be served at 6:30pm. Traditional bluegrass music will be provided by Maureen Cremeans and friends.\n\n	\n\n	RSVP through the Charleston Area Alliance using the Register Online button above.  Tickets to the Harvest Hoe-Down are $10.  \n\n	\n\n	Cash or check for your dinner will be taken at the door.  Please make all checks payable to the Kanawha Urban Agriculture Alliance.\n\n	\n\n	\n\n	*There is no cost to SAGE agripreneurs or KVCSA members.
X-ALT-DESC;FMTTYPE=text/html:<p class="Normal" style="color: rgb(0\, 0\, 0)\; text-indent: 0pt\; font-family: Cambria\, Arial\; font-size: 12pt\; margin-top: 0pt\; margin-bottom: 0pt\;">\n	Join enthusiasts of the local food economy for a celebratory gathering of local food\, local music and local growth.&nbsp\; SAGE agripreneurs\, members of the Kanawha Valley CSA and members of the Kanawha Urban Agriculture Alliance are hosting the event and will be on hand to discuss opportunities in local food.</p>\n<p class="Normal" style="color: rgb(0\, 0\, 0)\; text-indent: 0pt\; font-family: Cambria\, Arial\; font-size: 12pt\; margin-top: 0pt\; margin-bottom: 0pt\;">\n	The Harvest Hoe-Down will take place Thursday\, October 17<span class="Normal__Char" style="font-family: Cambria\, Arial\; font-size: smaller\; vertical-align: super\;">th</span>&nbsp\;on-site at the West Side Farmers&rsquo\; Market located at the intersection of Washington Street West and Beatrice Street.&nbsp\; The Hoe-Down will begin at 6pm.</p>\n<p class="Normal" style="color: rgb(0\, 0\, 0)\; text-indent: 0pt\; font-family: Cambria\, Arial\; font-size: 12pt\; margin-top: 0pt\; margin-bottom: 0pt\;">\n	SAGE agripreneur\, April Hamilton of April&rsquo\;s Kitchen\, will be catering the event using produce from the SAGE MicroFarm and Kanawha Valley CSA&rsquo\;s Hudson Farm location.&nbsp\; Dinner will be served at 6:30pm. Traditional bluegrass music will be provided by Maureen Cremeans and friends.<br />\n	<br />\n	<span style="font-family: cambria\,serif\;"><span style="font-size: 12pt\;">RSVP through the Charleston Area Alliance using the Register Online button above. &nbsp\;</span></span>Tickets to the Harvest Hoe-Down are $10. &nbsp\;<br />\n	<br />\n	<span style="text-indent: 0pt\; font-size: 12pt\;">Cash or check for your dinner will be taken&nbsp\;</span><strong style="text-indent: 0pt\; font-size: 12pt\;">at the door</strong><span style="text-indent: 0pt\; font-size: 12pt\;">. &nbsp\;</span>Please make all checks payable to the&nbsp\;<u>Kanawha&nbsp\;Urban Agriculture Alliance.</u><br />\n	<br />\n	<br />\n	*There is no cost to SAGE agripreneurs or KVCSA members.</p>\n
LOCATION:West Side Farmers' Market intersection of Washington St W and Beatrice Street on the West Side of Charleston *Dinner and activities will all be outdoors
UID:e.1499.669
SEQUENCE:3
DTSTAMP:20260422T035708Z
URL:https://business.charlestonareaalliance.org/events/details/harvest-hoe-down-october-2013-10-17-2013-669
END:VEVENT

END:VCALENDAR
