BEGIN:VCALENDAR
VERSION:2.0
PRODID:-//ChamberMaster//Event Calendar 2.0//EN
METHOD:PUBLISH
X-PUBLISHED-TTL:P3D
REFRESH-INTERVAL:P3D
CALSCALE:GREGORIAN
BEGIN:VEVENT
DTSTART:20101030T040000Z
DTEND:20101031T040000Z
X-MICROSOFT-CDO-ALLDAYEVENT:FALSE
SUMMARY:HallowEast Costume Ball & Halloween Hootenanny 2010
DESCRIPTION:
X-ALT-DESC;FMTTYPE=text/html:
LOCATION:New China
UID:e.1499.376
SEQUENCE:3
DTSTAMP:20260425T115829Z
URL:https://business.charlestonareaalliance.org/events/details/halloweast-costume-ball-halloween-hootenanny-2010-10-30-2010-376
END:VEVENT

END:VCALENDAR
