BEGIN:VCALENDAR
VERSION:2.0
PRODID:-//ChamberMaster//Event Calendar 2.0//EN
METHOD:PUBLISH
X-PUBLISHED-TTL:P3D
REFRESH-INTERVAL:P3D
CALSCALE:GREGORIAN
BEGIN:VEVENT
DTSTART;VALUE=DATE:20161001
DTEND;VALUE=DATE:20161002
TRANSP:TRANSPARENT
X-MICROSOFT-CDO-ALLDAYEVENT:TRUE
SUMMARY:GROW Spring 2016
DESCRIPTION:GROW is the Charleston Area Alliance's six month "entrepreneurial boot camp" for local small business owners. Participants pay a $250 fee up front and are returned $100 at completion of the program.
X-ALT-DESC;FMTTYPE=text/html:GROW is the Charleston Area Alliance&#39\;s six month &quot\;entrepreneurial boot camp&quot\; for local small business owners. Participants pay a $250 fee up front and are returned $100 at completion of the program.
LOCATION:Most events are held at the Alliance's offices (1116 Smith Street\, Charleston\, WV 25301).
UID:e.1499.1858
SEQUENCE:3
DTSTAMP:20260420T052435Z
URL:https://business.charlestonareaalliance.org/events/details/grow-spring-2016-04-14-2016-1858
END:VEVENT

END:VCALENDAR
