BEGIN:VCALENDAR
VERSION:2.0
PRODID:-//ChamberMaster//Event Calendar 2.0//EN
METHOD:PUBLISH
X-PUBLISHED-TTL:P3D
REFRESH-INTERVAL:P3D
CALSCALE:GREGORIAN
BEGIN:VEVENT
DTSTART:20130612T213000Z
DTEND:20130612T230000Z
X-MICROSOFT-CDO-ALLDAYEVENT:FALSE
SUMMARY:GROW - Fund the growth of these entrepreneurs!
DESCRIPTION:GROW\, the entrepreneur support program of the Charleston Area Alliance\, is holding an exclusive crowd-funding event on June 12\, from 5:30-7:30pm in the Large Conference Room at the Charleston Area Alliance. The following GROW businesses will be competing for $1\,000+ in crowd funds:\n\n\n\n  *  Alum Creek Bookbinder\n\n  *  B.Belle Events\n\n  *  Dressmaker's Closet\n\n  *  WV Cheer Academy\n\n  *  WV Miners Basketball\n\n\n\nHow it works:\n\nGeneral admittance is $10/person\, collected by advance registration and at the door. This entry fee buys each patron one vote. The businesses will deliver 90 second elevator pitches to all in attendance in an effort to earn their supporting vote. After the conclusion of all business pitches\, attendees will cast their vote by text for the business they feel most deserves the cash capital.\n\n\n\nRegister in advance by clicking the blue box at top left. Remember to bring your cell phone with you to this event in order to cast your valuable text vote for the business of your choice.\n\n\n\nIf you work with an Alliance member business and need assistance locating your password\, email Leigh Anne Strickland\, Director of Member Programs and Services.\n\n\n\nIf you are interested in learning more about the GROW program and obtaining an application to participate in next year's course\, contact GROW Project Manager\, Steven Romano for information.
X-ALT-DESC;FMTTYPE=text/html:<strong>GROW</strong>\, the entrepreneur support program of the Charleston Area Alliance\, is holding an exclusive crowd-funding event on June 12\, from 5:30-7:30pm in the Large Conference Room at the Charleston Area Alliance. The following GROW businesses will be competing for $1\,000+ in crowd funds:<br />\n<br />\n<strong>&nbsp\; *&nbsp\; Alum Creek Bookbinder<br />\n&nbsp\; *&nbsp\; B.Belle Events<br />\n&nbsp\; *&nbsp\; Dressmaker&#39\;s Closet<br />\n&nbsp\; *&nbsp\; WV Cheer Academy<br />\n&nbsp\; *&nbsp\; WV Miners Basketball<br />\n<br />\nHow it works:</strong><br />\nGeneral admittance is $10/person\, collected by advance registration and at the door. This entry fee buys each patron one vote. The businesses will deliver 90 second elevator pitches to all in attendance in an effort to earn their supporting vote. After the conclusion of all business pitches\, attendees will cast their vote by text&nbsp\;for the business they feel most deserves the cash capital.<br />\n<br />\nRegister in advance by clicking the blue box at top left. Remember to bring your cell phone with you to this event in order to cast your valuable&nbsp\;text vote for the business of your choice.<br />\n<br />\n<strong>If you work with an Alliance member business and need assistance locating your <span style="color: rgb(178\, 34\, 34)\;">password</span>\, email</strong> <a href="mailto:LStrickland@CharlestonAreaAlliance.org?subject=Password%20Inquiry">Leigh Anne Strickland</a>\, <strong>Director of Member Programs and Services.</strong><br />\n<br />\nIf you are interested in learning more about the GROW program and obtaining an application to participate in next year&#39\;s course\, contact GROW Project Manager\, <a href="mailto:SRomano@CharlestonAreaAlliance.org?subject=GROW%20Inquiry">Steven Romano </a>for information.
LOCATION:Charleston Area Alliance Large Conference Room 1116 Smith Street Charleston\, WV 25301
UID:e.1499.645
SEQUENCE:3
DTSTAMP:20260422T085836Z
URL:https://business.charlestonareaalliance.org/events/details/grow-fund-the-growth-of-these-entrepreneurs-06-12-2013-645
END:VEVENT

END:VCALENDAR
