BEGIN:VCALENDAR
VERSION:2.0
PRODID:-//ChamberMaster//Event Calendar 2.0//EN
METHOD:PUBLISH
X-PUBLISHED-TTL:P3D
REFRESH-INTERVAL:P3D
CALSCALE:GREGORIAN
BEGIN:VEVENT
DTSTART:20151209T130000Z
DTEND:20151209T140000Z
X-MICROSOFT-CDO-ALLDAYEVENT:FALSE
SUMMARY:GPS Breakfast with Jeffrey McIntyre - Generation Charleston Event
DESCRIPTION:Jeffrey McIntyre\, West Virginia American Water President\, will meet with a small group of Generation Charleston members over breakfast. This event will be limited to the first 15 who RSVP.\n\n\n\nIn his role\, McIntyre drives operational and financial results\, leads customer\, regulatory and local government relationships and is the principal external contact for West Virginia American Water. \n\n\n\nThe company is the largest investor-owned water utility in the state\, providing high-quality and reliable water services to approximately 550\,000 people. \n\n\n\nGain\, Prosper\, Succeed (GPS) is a breakfast series with selected community leaders and a small number of Generation Charleston members. This small group format allows members to have an intimate discussion with the selected guest. Guests provide tips and advice on leadership and a fresh perspective on timely topics. \n\n\n\nGeneration Charleston members gain insight on skill development as an up-and-coming business professional and build connections with business leaders in the Kanawha Valley.\n\n\n\nFor more information\, visit www.generationcharleston.com.\n\n\n\nGeneration Charleston is presented by Brickstreet Insurance.
X-ALT-DESC;FMTTYPE=text/html:Jeffrey McIntyre\, West Virginia American Water President\,&nbsp\;will meet with a small group of Generation Charleston members over breakfast. This event will be limited to the first 15 who RSVP.<br />\n<br />\nIn his role\, McIntyre drives operational and financial results\, leads customer\, regulatory and local government relationships and is the principal external contact for West Virginia American Water.&nbsp\;<br />\n<br />\nThe company is the largest investor-owned water utility in the state\, providing high-quality and reliable water services to approximately 550\,000 people.&nbsp\;<br />\n<br />\nGain\, Prosper\, Succeed (GPS) is a breakfast series&nbsp\;with&nbsp\;selected community leaders and a&nbsp\;small&nbsp\;number of Generation Charleston&nbsp\;members. This small group format&nbsp\;allows&nbsp\;members to have an&nbsp\;intimate discussion with the&nbsp\;selected guest.&nbsp\;Guests provide tips and advice on leadership and a&nbsp\;fresh perspective on timely topics.&nbsp\;<br />\n<br />\nGeneration Charleston members gain&nbsp\;insight on skill development as an up-and-coming business professional and build connections with&nbsp\;business leaders in the Kanawha Valley.<br />\n<br />\nFor more information\, visit <a href="http://www.generationcharleston.com">www.generationcharleston.com</a>.<br />\n<br />\nGeneration Charleston is presented by Brickstreet Insurance.
LOCATION:West Virginia American Water 1600 Pennsylvania Ave.\, Charleston\, WV 25302
UID:e.1499.820
SEQUENCE:3
DTSTAMP:20260420T184303Z
URL:https://business.charlestonareaalliance.org/events/details/gps-breakfast-with-jeffrey-mcintyre-generation-charleston-event-12-09-2015-820
END:VEVENT

END:VCALENDAR
