BEGIN:VCALENDAR
VERSION:2.0
PRODID:-//ChamberMaster//Event Calendar 2.0//EN
METHOD:PUBLISH
X-PUBLISHED-TTL:P3D
REFRESH-INTERVAL:P3D
CALSCALE:GREGORIAN
BEGIN:VEVENT
DTSTART:20110829T040000Z
DTEND:20110829T040000Z
X-MICROSOFT-CDO-ALLDAYEVENT:FALSE
SUMMARY:Golf Scramble: August 2011 at Edegewood Country Club's Derrick's Creek Course
DESCRIPTION:
X-ALT-DESC;FMTTYPE=text/html:
LOCATION:Edgewood Country Club
UID:e.1499.409
SEQUENCE:3
DTSTAMP:20260424T220624Z
URL:https://business.charlestonareaalliance.org/events/details/golf-scramble-august-2011-at-edegewood-country-club-s-derrick-s-creek-course-08-29-2011-409
END:VEVENT

END:VCALENDAR
