BEGIN:VCALENDAR
VERSION:2.0
PRODID:-//ChamberMaster//Event Calendar 2.0//EN
METHOD:PUBLISH
X-PUBLISHED-TTL:P3D
REFRESH-INTERVAL:P3D
CALSCALE:GREGORIAN
BEGIN:VEVENT
DTSTART:20100802T040000Z
DTEND:20100802T040000Z
X-MICROSOFT-CDO-ALLDAYEVENT:FALSE
SUMMARY:Golf Scramble: August 2010 at Berry Hills Country Club
DESCRIPTION:
X-ALT-DESC;FMTTYPE=text/html:
LOCATION:Berry Hills Country Club
UID:e.1499.352
SEQUENCE:3
DTSTAMP:20260425T142307Z
URL:https://business.charlestonareaalliance.org/events/details/golf-scramble-august-2010-at-berry-hills-country-club-08-02-2010-352
END:VEVENT

END:VCALENDAR
