BEGIN:VCALENDAR
VERSION:2.0
PRODID:-//ChamberMaster//Event Calendar 2.0//EN
METHOD:PUBLISH
X-PUBLISHED-TTL:P3D
REFRESH-INTERVAL:P3D
CALSCALE:GREGORIAN
BEGIN:VEVENT
DTSTART:20160912T140000Z
DTEND:20160912T210000Z
X-MICROSOFT-CDO-ALLDAYEVENT:FALSE
SUMMARY:Golf Scramble 2016
DESCRIPTION:Hit the links with Charleston Area Alliance and title sponsor United Bank at the 2016 Golf Scramble on September 12 at Edgewood Country Club. The event kicks off with check-in at 10 a.m.\, lunch at 11 a.m. and shotgun start at 11:30 a.m.\n\n\n\nGather your foursome and register today!\n\n\n\nHeld annually at a local Alliance-member course\, proceeds from the golf outing support the Alliance's job creation and community enhancement programs. Enjoy West Virginia's pristine scenery at this local professional course while networking with other business leaders from the Kanawha Valley.\n\n\n\nThis year's golf scramble will feature a hole-in-one contest and other exciting awards and prizes.\n\n\n\nTickets:\n\nTake advantage of early bird registration discounts before Sept. 9. The cost per foursome is $600. The cost per individual golfer is $150. Prices increase to $800/foursome & $250/individual golfer on Sept. 9.\n\n\n\nExclusive sponsorships provide premier opportunities to showcase your business and forge valuable connections with decision makers.\n\n   Tournament Sponsor - $2\,500\n\n\n	2 foursomes\, lunch\, dinner & refreshments\n	Company logos/recognition on promotions\n	Signage at event\n	Hole sponsorship benefits\n	Opportunity to provide items for goody bags\n\n\n    Eagle Sponsor - $1\,000\n\n\n	1 foursome\, lunch\, dinner & refreshments\n	Company logo/recognition on promotions\n	Signage at event\n	Opportunity to provide items for goody bags\n\n\n    Hole Sponsor - $500\n\n\n	Designated Hole\n	Opportunity to display/distribute company materials\n	Opportunity to provide items for goody bags\n\n\nRegistration Information:\n\n\n\nTo purchase individual or foursome tickets or to take advantage of the Tournament\, Eagle or Hole Sponsorship opportunities\, please click here . \n\nThe Alliance cannot issue cancelation refunds within one week of scheduled event.
X-ALT-DESC;FMTTYPE=text/html:<p>Hit&nbsp\;the links with Charleston Area Alliance and&nbsp\;title sponsor United Bank at the 2016&nbsp\;Golf Scramble on September 12&nbsp\;at Edgewood Country Club. The event kicks off with check-in&nbsp\;at 10 a.m.\,&nbsp\;lunch at 11 a.m. and shotgun start at 11:30 a.m.<br />\n<br />\nGather your foursome and&nbsp\;register today!<br />\n<br />\nHeld annually at a local Alliance-member course\, proceeds from the golf outing support the Alliance&#39\;s job creation and community enhancement programs. Enjoy West Virginia&#39\;s pristine scenery at this local professional&nbsp\;course while networking with other business leaders from the Kanawha Valley.<br />\n<br />\nThis year&#39\;s&nbsp\;golf scramble will feature a hole-in-one contest&nbsp\;and other exciting awards and prizes.<br />\n<br />\n<span style="color: rgb(178\, 34\, 34)\;"><strong>Tickets:</strong></span></p>\n\n<p>Take advantage of e<em>arly bird registration discounts </em>before Sept. 9. The cost per foursome is $600. The cost per individual golfer is $150. Prices increase to $800/foursome&nbsp\;&amp\; $250/individual golfer on Sept. 9.<br />\n<br />\nExclusive sponsorships provide premier opportunities to showcase your business and forge valuable connections with decision makers.</p>\n\n<p><span style="color: rgb(0\, 128\, 0)\;"><em><strong>&nbsp\;&nbsp\; Tournament Sponsor - $2\,500</strong></em></span></p>\n\n<ul>\n	<li>2 foursomes\, lunch\, dinner &amp\; refreshments</li>\n	<li>Company logos/recognition on promotions</li>\n	<li>Signage at event</li>\n	<li>Hole sponsorship benefits</li>\n	<li>Opportunity to provide items for goody bags</li>\n</ul>\n\n<p><span style="color: rgb(0\, 128\, 0)\;"><em><strong>&nbsp\;&nbsp\;&nbsp\; Eagle Sponsor - $1\,000</strong></em></span></p>\n\n<ul>\n	<li>1 foursome\, lunch\, dinner &amp\; refreshments</li>\n	<li>Company logo/recognition on promotions</li>\n	<li>Signage at event</li>\n	<li>Opportunity to provide items for goody bags</li>\n</ul>\n\n<p><span style="color: rgb(0\, 128\, 0)\;"><em><strong>&nbsp\;&nbsp\; &nbsp\;Hole Sponsor - $500</strong></em></span></p>\n\n<ul>\n	<li>Designated Hole</li>\n	<li>Opportunity to display/distribute company materials</li>\n	<li>Opportunity to provide items for goody bags</li>\n</ul>\n\n<p><strong>Registration Information:</strong><br />\n<br />\nTo purchase individual or foursome tickets or to take advantage of&nbsp\;the Tournament\, Eagle or Hole Sponsorship opportunities\, please <a href="https://chambermaster.blob.core.windows.net/userfiles/UserFiles/chambers/1499/File/Golf16promowunited.pdf">click here</a> .&nbsp\;</p>\n\n<p><em><span style="font-size: 9px\;">The Alliance cannot issue cancelation refunds within one week of scheduled event.</span></em></p>\n\n<p><br />\n&nbsp\;</p>\n
LOCATION:Edgewood Country Club Derricks Creek Golf Course From Charleston\, WV: Take I-77 north to exit 114 (Sissonville\, Pocatalico). Go to the bottom of the exit ramp and make a right turn onto Route 21. Stay on Rte. 21 for about 2/3 mile and take the 2nd right turn\, Derrick's Creek Road. Follow Derrick's Creek Road about 2 miles. The golf course will be on your left.
UID:e.1499.1867
SEQUENCE:3
DTSTAMP:20260420T080044Z
URL:https://business.charlestonareaalliance.org/events/details/golf-scramble-2016-09-12-2016-1867
END:VEVENT

END:VCALENDAR
