BEGIN:VCALENDAR
VERSION:2.0
PRODID:-//ChamberMaster//Event Calendar 2.0//EN
METHOD:PUBLISH
X-PUBLISHED-TTL:P3D
REFRESH-INTERVAL:P3D
CALSCALE:GREGORIAN
BEGIN:VEVENT
DTSTART:20140915T150000Z
DTEND:20140915T214500Z
X-MICROSOFT-CDO-ALLDAYEVENT:FALSE
SUMMARY:Golf Scramble 2014
DESCRIPTION:Hit the links with Charleston Area Alliance and title sponsor United Bank at the 2014 Golf Scramble fundraising event on September 15 at Berry Hills Country Club. The event kicks off with check-in beginning at 10 a.m.\n\n\n\nGather your foursome and get registered today!\n\n\n\nHeld annually at a local\, Alliance-member course\, proceeds from the golf outing support the Alliance's job-creation and community enhancement programs. Enjoy West Virginia's pristine scenery at this local professional course while entertaining and networking with other business leaders from the Kanawha Valley.\n\n\n\nThis year's golf scramble will feature a hole-in-one contest and other exciting awards and prizes. Registration and box lunch pick up begin at 10 a.m.\, followed by a shotgun start at 11:30 a.m.\n\n\n\nTickets:\n\n\n\nTake advantage of early bird registration discounts before Sept. 8. The cost per foursome is $600. The cost per individual golfer is $150. Prices increase to $800/foursome and $250/individual golfer on Sept. 8.\n\n\n\nExclusive sponsorships provide premier opportunities to showcase your business and forge valuable connections with decision makers. \n\n   Tournament Sponsor\n\n\n	2 foursomes\, lunch\, dinner & refreshments\n	Company logos/recognition on promotions\n	Signage at event\n	Hole sponsorship benefits\n	Opportunity to provide items for goody bags\n\n\n\n\n    Eagle Sponsor\n\n\n	1 foursome\, lunch\, dinner & refreshments\n	Company logo/recognition on promotions\n	Signage at event\n	Opportunity to provide items for goody bags\n\n\n    Hole Sponsor\n\n\n	Designated Hole\n	Opportunity to display/distribute company materials\n	Opportunity to provide items for goody bags\n\n\n \n\n\n\nRegistration Information:\n\n\n\nTo purchase individual or foursome tickets or to take advantage of the Tournament\, Eagle or Hole Sponsorship opportunities\, please click here.\n\nThe Alliance cannot issue cancelation refunds within one week of scheduled event.
X-ALT-DESC;FMTTYPE=text/html:<p><br />\nHit&nbsp\;the links with Charleston Area Alliance and&nbsp\;title sponsor United Bank at the 2014 Golf Scramble fundraising event on September 15 at Berry Hills Country Club. The event kicks off with check-in beginning at 10 a.m.<br />\n<br />\nGather your foursome and get registered today!<br />\n<br />\nHeld annually at a local\, Alliance-member course\, proceeds from the golf outing support the Alliance&#39\;s job-creation and community enhancement programs. Enjoy West Virginia&#39\;s pristine scenery at this local professional&nbsp\;course while entertaining and networking with other business leaders from the Kanawha Valley.<br />\n<br />\nThis year&#39\;s&nbsp\;golf scramble will feature a hole-in-one contest&nbsp\;and other exciting awards and prizes. Registration&nbsp\;and box lunch pick up begin at 10 a.m.\, followed by a shotgun start at 11:30 a.m.<br />\n<br />\n<span style="color: rgb(178\, 34\, 34)\;"><strong>Tickets:</strong></span></p>\n\n<p><br />\nTake advantage of e<em>arly bird registration discounts </em>before Sept. 8. The cost per foursome is $600. The cost per individual golfer is $150. Prices increase to $800/foursome and $250/individual golfer on Sept. 8.<br />\n<br />\nExclusive sponsorships provide premier opportunities to showcase your business and forge valuable connections with decision makers.&nbsp\;</p>\n\n<p><span style="color: rgb(0\, 128\, 0)\;"><em><strong>&nbsp\;&nbsp\; Tournament Sponsor</strong></em></span></p>\n\n<ul>\n	<li>2 foursomes\, lunch\, dinner &amp\; refreshments</li>\n	<li>Company logos/recognition on promotions</li>\n	<li>Signage at event</li>\n	<li>Hole sponsorship benefits</li>\n	<li>Opportunity to provide items for goody bags</li>\n</ul>\n\n<p><br />\n<span style="color: rgb(0\, 128\, 0)\;"><em><strong>&nbsp\;&nbsp\;&nbsp\; Eagle Sponsor</strong></em></span></p>\n\n<ul>\n	<li>1 foursome\, lunch\, dinner &amp\; refreshments</li>\n	<li>Company logo/recognition on promotions</li>\n	<li>Signage at event</li>\n	<li>Opportunity to provide items for goody bags</li>\n</ul>\n\n<p><span style="color: rgb(0\, 128\, 0)\;"><em><strong>&nbsp\;&nbsp\; &nbsp\;Hole Sponsor</strong></em></span></p>\n\n<ul>\n	<li>Designated Hole</li>\n	<li>Opportunity to display/distribute company materials</li>\n	<li>Opportunity to provide items for goody bags</li>\n</ul>\n\n<p>&nbsp\;</p>\n\n<p><br />\n<strong>Registration Information:</strong><br />\n<br />\nTo purchase individual or foursome tickets or to take advantage of&nbsp\;the Tournament\, Eagle or Hole Sponsorship opportunities\, please <a href="http://charlestonareaalliance.chambermaster.com/events/details/golf-scramble-2013-sponsors-551">click here</a>.</p>\n\n<p><em><span style="font-size: 9px\;">The Alliance cannot issue cancelation refunds within one week of scheduled event.</span></em></p>\n\n<p><br />\n&nbsp\;</p>\n
LOCATION:Berry Hills Country Club 1 Berry Hills Drive Charleston\, WV 25314
UID:e.1499.714
SEQUENCE:3
DTSTAMP:20260421T145750Z
URL:https://business.charlestonareaalliance.org/events/details/golf-scramble-2014-09-15-2014-714
END:VEVENT

END:VCALENDAR
