BEGIN:VCALENDAR
VERSION:2.0
PRODID:-//ChamberMaster//Event Calendar 2.0//EN
METHOD:PUBLISH
X-PUBLISHED-TTL:P3D
REFRESH-INTERVAL:P3D
CALSCALE:GREGORIAN
BEGIN:VEVENT
DTSTART:20121129T230000Z
DTEND:20121130T010000Z
X-MICROSOFT-CDO-ALLDAYEVENT:FALSE
SUMMARY:Generation Charleston Year-End Capstone Celebration 2012
DESCRIPTION:Generation Charleston volunteers will gather for an evening of networking\, recognition and entertainment commemorating their accomplishments in 2012 and looking toward the future during this year's Annual Celebration of Success at the Clay Center for Arts & Sciences Walker Theater.\n\n\n\nThe event is free for Generation Charleston members and their guests. Enjoy heavy hors d'oeuvres and cash bar as you listen to the music of The Bob Thompson Unit.\n\n\n\nGC members are encouraged to invite colleagues and other professional contacts to the event to learn more about the Alliance's young professionals network\, it's accomplishments and areas of focus. The volunteers selected to lead Generation Charleston's projects in 2013 will also be announced.\n\n\n\nAdvance RSVP is required for entry. \n\n\n\nGeneration Charleston\, a program of the Charleston Area Alliance\, is presented through the generous support of Title Sponsor BrickStreet Insurance.
X-ALT-DESC;FMTTYPE=text/html:Generation Charleston volunteers will gather for an evening of networking\, recognition and entertainment commemorating their accomplishments in 2012 and looking toward the future during this year&#39\;s Annual Celebration of Success at the Clay Center for Arts &amp\; Sciences Walker Theater.<br />\n<br />\nThe event is free for Generation Charleston members and their guests. Enjoy heavy hors d&#39\;oeuvres and cash bar as you listen to the music of The Bob Thompson Unit.<br />\n<br />\nGC members are encouraged to invite colleagues and other professional contacts to the event to learn more about the Alliance&#39\;s young professionals network\, it&#39\;s accomplishments and areas of focus. The volunteers selected to lead Generation Charleston&#39\;s projects in 2013 will also be announced.<br />\n<br />\nAdvance RSVP is <u>required </u>for entry.&nbsp\;<br />\n<br />\n<em>Generation Charleston\, a program of the Charleston Area Alliance\, is presented through the generous support of Title Sponsor BrickStreet Insurance.&nbsp\;</em><br />\n
LOCATION:Clay Center for the Arts & Sciences Walker Theater 1 Clay Square Charleston\, WV 25301 *Walker Theater entrance faces Brooks Street
UID:e.1499.513
SEQUENCE:3
DTSTAMP:20260422T174740Z
URL:https://business.charlestonareaalliance.org/events/details/generation-charleston-year-end-capstone-celebration-2012-11-29-2012-513
END:VEVENT

END:VCALENDAR
