BEGIN:VCALENDAR
VERSION:2.0
PRODID:-//ChamberMaster//Event Calendar 2.0//EN
METHOD:PUBLISH
X-PUBLISHED-TTL:P3D
REFRESH-INTERVAL:P3D
CALSCALE:GREGORIAN
BEGIN:VEVENT
DTSTART:20140313T213000Z
DTEND:20140313T233000Z
X-MICROSOFT-CDO-ALLDAYEVENT:FALSE
SUMMARY:Generation Charleston Speed Networking - March 2014
DESCRIPTION:Meet with Charleston's movers and shakers at a special Generation Charleston speed networking event on March 13.\n\n\n\nThe event will feature casual one-on-one conversations with the city's best and brightest. Network with young\, energetic business professionals in a relaxed environment.\n\n\n\nLight hors d'oeuvres and cash bar will be featured at the event.\n\n\n\nGeneration Charleston: Live\, Work and Play!
X-ALT-DESC;FMTTYPE=text/html:<br />\nMeet with Charleston&#39\;s movers and shakers at a special Generation Charleston speed networking event on March 13.<br />\n<br />\nThe event will feature casual one-on-one conversations with the city&#39\;s best and brightest. Network with young\, energetic business professionals in a relaxed environment.<br />\n<br />\nLight hors d&#39\;oeuvres and cash bar will be featured at the event.<br />\n<br />\nGeneration Charleston: Live\, Work and Play!<br />\n<br />\n&nbsp\;
LOCATION:Four Points by Sheraton 600 Kanawha Boulevard East Charleston\, WV 25301
UID:e.1499.694
SEQUENCE:3
DTSTAMP:20260421T213603Z
URL:https://business.charlestonareaalliance.org/events/details/generation-charleston-speed-networking-march-2014-03-13-2014-694
END:VEVENT

END:VCALENDAR
