BEGIN:VCALENDAR
VERSION:2.0
PRODID:-//ChamberMaster//Event Calendar 2.0//EN
METHOD:PUBLISH
X-PUBLISHED-TTL:P3D
REFRESH-INTERVAL:P3D
CALSCALE:GREGORIAN
BEGIN:VEVENT
DTSTART:20111108T050000Z
DTEND:20111108T050000Z
X-MICROSOFT-CDO-ALLDAYEVENT:FALSE
SUMMARY:Generation Charleston Speed Networking 2011
DESCRIPTION:
X-ALT-DESC;FMTTYPE=text/html:
LOCATION:Panera Bread\, Charleston Town Center\, WV
UID:e.1499.427
SEQUENCE:3
DTSTAMP:20260424T184658Z
URL:https://business.charlestonareaalliance.org/events/details/generation-charleston-speed-networking-2011-11-08-2011-427
END:VEVENT

END:VCALENDAR
