BEGIN:VCALENDAR
VERSION:2.0
PRODID:-//ChamberMaster//Event Calendar 2.0//EN
METHOD:PUBLISH
X-PUBLISHED-TTL:P3D
REFRESH-INTERVAL:P3D
CALSCALE:GREGORIAN
BEGIN:VEVENT
DTSTART:20150507T210000Z
DTEND:20150507T230000Z
X-MICROSOFT-CDO-ALLDAYEVENT:FALSE
SUMMARY:Generation Charleston Social Hour - May 2015
DESCRIPTION:Generation Charleston will host its monthly Social Hour event 5   7 p.m. Thursday\, May 7 at Paterno's at the Park\, at 601 Morris Street.\n\n\n\nFollowing Social Hour\, the West Virginia Power will take on the Savannah Sand Gnats at Appalachian Power Park. Tickets to the game will be available to Generation Charleston members for purchase. The West Virginia Power will feature its Thirsty Thursday promotion during the game.\n\n\n\nSocial Hour gives members the opportunity to socialize and network with other young professionals in a relaxed setting. Social Hour is hosted at a different venue each month\, introducing members to new and diverse establishments.\n\n\n\nSocial Hour is open to the public with no admission fee. However\, guests are required to register online to attend.
X-ALT-DESC;FMTTYPE=text/html:Generation Charleston will host its monthly Social Hour event 5 &ndash\; 7 p.m. Thursday\, May 7 at Paterno&rsquo\;s at the Park\, at 601 Morris Street.<br />\n<br />\nFollowing Social Hour\, the West Virginia Power will take on the Savannah Sand Gnats at Appalachian Power Park. Tickets to the game will be available to Generation Charleston members for purchase. The West Virginia Power will feature its Thirsty Thursday promotion during the game.<br />\n<br />\nSocial Hour gives members the opportunity to socialize and network with other young professionals in a relaxed setting. Social Hour is hosted at a different venue each month\, introducing members to new and diverse establishments.<br />\n<br />\nSocial Hour is open to the public with no admission fee. However\, guests are required to register online to attend.<br />\n<br />\n&nbsp\;
LOCATION:Paterno's at the Park 601 Morris Street Charleston\, WV 25301
UID:e.1499.785
SEQUENCE:3
DTSTAMP:20260421T042027Z
URL:https://business.charlestonareaalliance.org/events/details/generation-charleston-social-hour-may-2015-05-07-2015-785
END:VEVENT

END:VCALENDAR
