BEGIN:VCALENDAR
VERSION:2.0
PRODID:-//ChamberMaster//Event Calendar 2.0//EN
METHOD:PUBLISH
X-PUBLISHED-TTL:P3D
REFRESH-INTERVAL:P3D
CALSCALE:GREGORIAN
BEGIN:VEVENT
DTSTART:20170921T233000Z
DTEND:20170922T013000Z
X-MICROSOFT-CDO-ALLDAYEVENT:FALSE
SUMMARY:Generation Charleston Social Hour at Art After Dark
DESCRIPTION:Join Generation Charleston for Social Hour during the Clay Center for the Arts & Sciences of West Virginia Art After Dark Thursday\, Sept. 21.\n\n\n\nWhen the museum lights go down\, the fun begins. Meet up with friends and make new ones at this monthly networking event for young professionals\, business leaders and community members.\n\n\n\nLive music and entertainment provided by Gypsy Rhythm! Additionally\, be one of the first to find out the theme of the annual Carnaval fundraising event benefiting the Clay Center and the Charleston Ballet. Get a first look at all the excitement headed your way January 27. \n\n\n\nArt After Dark activities and entertainment are completely free. A cash bar is available onsite for refreshments.
X-ALT-DESC;FMTTYPE=text/html:Join Generation Charleston for Social Hour during the&nbsp\;Clay Center for the Arts &amp\; Sciences of West Virginia&nbsp\;Art After Dark Thursday\, Sept. 21.<br />\n<br />\nWhen the museum lights go down\, the fun begins. Meet up with friends and make new ones at this monthly networking event for young professionals\, business leaders and community members.<br />\n<br />\nLive music and entertainment provided by Gypsy Rhythm! Additionally\, be one of the first to find out the theme of the annual Carnaval fundraising event benefiting the Clay Center and the Charleston Ballet. Get a first look at all the excitement headed your way January 27.&nbsp\;<br />\n<br />\nArt After Dark activities and entertainment are completely free. A cash bar is available onsite for refreshments.
LOCATION:The Clay Center One Clay Square Charleston\, WV 25301
UID:e.1499.1966
SEQUENCE:3
DTSTAMP:20260419T164733Z
URL:https://business.charlestonareaalliance.org/events/details/generation-charleston-social-hour-at-art-after-dark-1966
END:VEVENT

END:VCALENDAR
