BEGIN:VCALENDAR
VERSION:2.0
PRODID:-//ChamberMaster//Event Calendar 2.0//EN
METHOD:PUBLISH
X-PUBLISHED-TTL:P3D
REFRESH-INTERVAL:P3D
CALSCALE:GREGORIAN
BEGIN:VEVENT
DTSTART;VALUE=DATE:20140911
DTEND;VALUE=DATE:20140912
TRANSP:TRANSPARENT
X-MICROSOFT-CDO-ALLDAYEVENT:TRUE
SUMMARY:Generation Charleston Smooth Ambler Tasting hosted by the Bridge Road Bistro- September 2014
DESCRIPTION:Join Generation Charleston at the Bridge Road Bistro on Thursday\, September 11\, 2014\, for dinner and a whiskey tasting presented by Smooth Ambler Spirits. \n\n\n\nFor $50 per person\, enjoy a fantastic dinner from the Bridge Road Bistro specially crafted and expertly paired with a variety of Smooth Ambler craft spirits. \n\n\n\nClick above to RSVP.\n\n\n\nTHE $50 WILL BE PAID TO BRIDGE ROAD BISTRO THE NIGHT OF THE EVENT.\n\n\n\nDistiller John Foster will be on hand to offer an exclusive tasting of a variety of Smooth Ambler's products as well a history of West Virginia's only craft distillery. \n\n\n\nIn addition to the food and drink\, there will be a silent auction to benefit Charleston Regional Spay Neuter Center. GC's Smooth Ambler Whiskey Tasting hosted by the Bridge Road Bistro   another reason why Charleston is a great place to Live\, Work and Play!
X-ALT-DESC;FMTTYPE=text/html:<br />\nJoin Generation Charleston at the Bridge Road Bistro on Thursday\, September 11\, 2014\, for dinner and a whiskey tasting presented by Smooth Ambler Spirits.&nbsp\;<br />\n<br />\nFor $50 per person\, enjoy a fantastic dinner from the Bridge Road Bistro specially crafted and expertly paired with a variety of Smooth Ambler craft spirits.&nbsp\;<br />\n<br />\nClick above to RSVP.<br />\n<br />\n<strong>THE $50 WILL BE PAID TO BRIDGE ROAD BISTRO THE NIGHT OF THE EVENT.</strong><br />\n<br />\nDistiller John Foster will be on hand to offer an exclusive tasting of a variety of Smooth Ambler&rsquo\;s products as well a history of West Virginia&rsquo\;s only craft distillery.&nbsp\;<br />\n<br />\nIn addition to the food and drink\, there will be a silent auction to benefit Charleston Regional Spay Neuter Center. GC&rsquo\;s Smooth Ambler Whiskey Tasting hosted by the Bridge Road Bistro &ndash\; another reason why Charleston is a great place to Live\, Work and Play!<br />\n&nbsp\;
LOCATION:Bridge Road Bistro
UID:e.1499.730
SEQUENCE:3
DTSTAMP:20260421T144320Z
URL:https://business.charlestonareaalliance.org/events/details/generation-charleston-smooth-ambler-tasting-hosted-by-the-bridge-road-bistro-september-2014-09-11-2014-730
END:VEVENT

END:VCALENDAR
