BEGIN:VCALENDAR
VERSION:2.0
PRODID:-//ChamberMaster//Event Calendar 2.0//EN
METHOD:PUBLISH
X-PUBLISHED-TTL:P3D
REFRESH-INTERVAL:P3D
CALSCALE:GREGORIAN
BEGIN:VEVENT
DTSTART:20140915T223000Z
DTEND:20140916T000000Z
X-MICROSOFT-CDO-ALLDAYEVENT:FALSE
SUMMARY:Generation Charleston's Homebuyers Blueprint - September 2014
DESCRIPTION:Generation Charleston\n\nHomebuyers Blueprint\n\nMonday\, Sept. 15\n\n5:30-7:00 p.m.\n\nFour Points by Sheraton\n\n600 Kanawha Blvd. East\n\nAre you planning to purchase a home?\n\n\n\nIf so\, you need the "Homebuyers Blueprint."\n\n\n\nThe event from Generation Charleston will provide all of the necessary steps you will need when looking for the perfect place.\n\n \n\nTopics that will be discussed during the panel discussion include: lending and interest rates\, home inspections\, insurance and various programs that can assist you in the home buying process.\n\n\n\nThe event is free to attend\, but RSVP is required.\n\n\n\nRefreshments will be provided.\n\n\n\nThe event is part of Generation Charleston's Urban Living 2014 week-long event.
X-ALT-DESC;FMTTYPE=text/html:<p><br />\n<strong>Generation Charleston<br />\nHomebuyers Blueprint</strong><br />\nMonday\, Sept. 15<br />\n5:30-7:00 p.m.<br />\nFour Points by Sheraton<br />\n600 Kanawha Blvd. East</p>\n\n<p>Are you planning to purchase a home?<br />\n<br />\nIf so\, you need the &quot\;Homebuyers Blueprint.&quot\;<br />\n<br />\nThe event from Generation Charleston will provide all of the necessary steps you will need when looking for the perfect place.<br />\n&nbsp\;<br />\nTopics that will be discussed during the panel discussion include: lending and interest rates\, home inspections\, insurance and various programs that can assist you in the home buying process.<br />\n<br />\nThe event is free to attend\, but RSVP is required.<br />\n<br />\nRefreshments will be provided.<br />\n<br />\nThe event is part of Generation Charleston&#39\;s Urban Living 2014 week-long event.</p>\n
LOCATION:Four Points by Sheraton 600 Kanawha Blvd. East
UID:e.1499.726
SEQUENCE:3
DTSTAMP:20260421T143907Z
URL:https://business.charlestonareaalliance.org/events/details/generation-charleston-s-homebuyers-blueprint-september-2014-09-15-2014-726
END:VEVENT

END:VCALENDAR
