BEGIN:VCALENDAR
VERSION:2.0
PRODID:-//ChamberMaster//Event Calendar 2.0//EN
METHOD:PUBLISH
X-PUBLISHED-TTL:P3D
REFRESH-INTERVAL:P3D
CALSCALE:GREGORIAN
BEGIN:VEVENT
DTSTART:20130508T213000Z
DTEND:20130508T223000Z
X-MICROSOFT-CDO-ALLDAYEVENT:FALSE
SUMMARY:Generation Charleston Public Policy Team Meeting
DESCRIPTION:Interested in getting involved with Generation Charleston's Public Policy Team for planning various GC events? Email the team leaders below your resume and interest and get plugged in today!\n\n	\n\n	Generation Charleston engages and empowers the Capital City's emerging leaders to create a more vibrant and prosperous economy through community involvement\, professional development and social networking centered around a theme of Live\, Work\, Play! in Charleston\, the Kanawha Valley Region and West Virginia.\n\n	\n\n	Public Policy Team\n\n	Focuses on identifying the local and state issues furthering the cause and mission of GC. This team works closely with both the Charleston Regional Chamber and Charleston Area Alliance to educate and encourage action and participation in advocacy for legislation supporting talent recruitment and retention\, business growth and development. Contact Matt Tyree or Abby Sobonya.
X-ALT-DESC;FMTTYPE=text/html:<div style="color: gray\;">\n	<span style="color: rgb(0\, 0\, 0)\;"><span style="font-size: 12px\;"><span style="font-family: arial\;">Interested in getting involved with Generation Charleston&#39\;s Public Policy Team for planning various GC events? Email the team leaders below your resume and interest and get plugged in today!<br />\n	<br />\n	Generation Charleston engages and empowers the Capital City&#39\;s emerging leaders to create a more vibrant and prosperous economy through community involvement\, professional development and social networking centered around a theme of Live\, Work\, Play! in Charleston\, the Kanawha Valley Region and West Virginia.</span></span></span><br />\n	<br />\n	<span style="font-size: 12px\;"><span style="font-family: arial\;"><strong><span style="color: rgb(247\, 150\, 70)\;">Public Policy&nbsp\;Team</span></strong><br />\n	<span style="color: black\;">Focuses on identifying the local and state issues furthering the cause and mission of GC. This team works closely with both the Charleston Regional Chamber and Charleston Area Alliance to educate and encourage action and participation in advocacy for legislation supporting talent recruitment and retention\, business growth and development. Contact <a href="mailto:mstyree@jacksonkelly.com?subject=Public%20Policy%20Team%20Inquiry">Matt Tyree</a> or <a href="mailto:abbysobony@gmail.com?subject=Public%20Policy%20Team%20Inquiry">Abby Sobonya</a>.</span></span></span></div>\n
LOCATION:Various
UID:e.1499.606
SEQUENCE:3
DTSTAMP:20260422T113836Z
URL:https://business.charlestonareaalliance.org/events/details/generation-charleston-public-policy-team-meeting-05-08-2013-606
END:VEVENT

END:VCALENDAR
