BEGIN:VCALENDAR
VERSION:2.0
PRODID:-//ChamberMaster//Event Calendar 2.0//EN
METHOD:PUBLISH
X-PUBLISHED-TTL:P3D
REFRESH-INTERVAL:P3D
CALSCALE:GREGORIAN
BEGIN:VEVENT
DTSTART:20130520T213000Z
DTEND:20130520T223000Z
X-MICROSOFT-CDO-ALLDAYEVENT:FALSE
SUMMARY:Generation Charleston Professional & Economic Development Team Meeting
DESCRIPTION:Interested in getting involved with Generation Charleston's Professional & Economic Development Team for planning various GC events? Email the team leaders below your resume and interest and get plugged in today!\n\n	\n\n	Generation Charleston engages and empowers the Capital City's emerging leaders to create a more vibrant and prosperous economy through community involvement\, professional development and social networking centered around a theme of Live\, Work\, Play! in Charleston\, the Kanawha Valley Region and West Virginia.\n\n	\n\n	Professional & Economic Development Team (PED)\n\n	Focused on revitalizing the Charleston metro area by organizing and utilizing the skills and efforts of GC participants\, this work team organizes activities and events focused on fostering participants' professional growth and career development. Contact Tim Gibson or Don Wilson.
X-ALT-DESC;FMTTYPE=text/html:<div style="color: gray\;">\n	<span style="color: rgb(0\, 0\, 0)\;"><span style="font-size: 12px\;"><span style="font-family: arial\;">Interested in getting involved with Generation Charleston&#39\;s&nbsp\;Professional &amp\; Economic Development&nbsp\;Team for planning various GC events? Email the team leaders below your resume and interest and get plugged in today!<br />\n	<br />\n	Generation Charleston engages and empowers the Capital City&#39\;s emerging leaders to create a more vibrant and prosperous economy through community involvement\, professional development and social networking centered around a theme of Live\, Work\, Play! in Charleston\, the Kanawha Valley Region and West Virginia.</span></span></span><br />\n	<br />\n	<span style="font-size: 12px\;"><span style="font-family: arial\;"><strong><span style="color: rgb(247\, 150\, 70)\;">Professional &amp\; Economic Development&nbsp\;Team (PED)</span></strong><br />\n	<span style="color: black\;">Focused on revitalizing the Charleston metro area by organizing and utilizing the skills and efforts of GC participants\, this work team organizes activities and events focused on fostering&nbsp\;participants&#39\; professional growth and career development. Contact <a href="mailto:timothy_j.gibson@ml.com?subject=PED%20Inquiry">Tim Gibson</a> or <a href="mailto:donteakow@gmail.com?subject=PED%20Inquiry">Don Wilson</a>.&nbsp\;</span></span></span></div>\n
LOCATION:Various
UID:e.1499.616
SEQUENCE:3
DTSTAMP:20260422T101828Z
URL:https://business.charlestonareaalliance.org/events/details/generation-charleston-professional-economic-development-team-meeting-05-20-2013-616
END:VEVENT

END:VCALENDAR
