BEGIN:VCALENDAR
VERSION:2.0
PRODID:-//ChamberMaster//Event Calendar 2.0//EN
METHOD:PUBLISH
X-PUBLISHED-TTL:P3D
REFRESH-INTERVAL:P3D
CALSCALE:GREGORIAN
BEGIN:VEVENT
DTSTART:20110524T040000Z
DTEND:20110524T040000Z
X-MICROSOFT-CDO-ALLDAYEVENT:FALSE
SUMMARY:Generation Charleston: Non-Profit Marketplace May 2011
DESCRIPTION:
X-ALT-DESC;FMTTYPE=text/html:
LOCATION:Brickstreet
UID:e.1499.403
SEQUENCE:3
DTSTAMP:20260425T035244Z
URL:https://business.charlestonareaalliance.org/events/details/generation-charleston-non-profit-marketplace-may-2011-05-24-2011-403
END:VEVENT

END:VCALENDAR
