BEGIN:VCALENDAR
VERSION:2.0
PRODID:-//ChamberMaster//Event Calendar 2.0//EN
METHOD:PUBLISH
X-PUBLISHED-TTL:P3D
REFRESH-INTERVAL:P3D
CALSCALE:GREGORIAN
BEGIN:VEVENT
DTSTART:20100330T040000Z
DTEND:20100330T040000Z
X-MICROSOFT-CDO-ALLDAYEVENT:FALSE
SUMMARY:Generation Charleston: Non-Profit Marketplace March 2010
DESCRIPTION:
X-ALT-DESC;FMTTYPE=text/html:
LOCATION:Brickstreet
UID:e.1499.334
SEQUENCE:3
DTSTAMP:20260425T202710Z
URL:https://business.charlestonareaalliance.org/events/details/generation-charleston-non-profit-marketplace-march-2010-03-30-2010-334
END:VEVENT

END:VCALENDAR
