BEGIN:VCALENDAR
VERSION:2.0
PRODID:-//ChamberMaster//Event Calendar 2.0//EN
METHOD:PUBLISH
X-PUBLISHED-TTL:P3D
REFRESH-INTERVAL:P3D
CALSCALE:GREGORIAN
BEGIN:VEVENT
DTSTART:20130812T213000Z
DTEND:20130812T223000Z
X-MICROSOFT-CDO-ALLDAYEVENT:FALSE
SUMMARY:Generation Charleston Membership Team Meeting
DESCRIPTION:Interested in getting involved with Generation Charleston's Membership Team for planning various GC events? Email the team leaders below your resume and interest and get plugged in today!\n\n\n\nGeneration Charleston engages and empowers the Capital City's emerging leaders to create a more vibrant and prosperous economy through community involvement\, professional development and social networking centered around a theme of Live\, Work\, Play! in Charleston\, the Kanawha Valley Region and West Virginia.\n\n\n\nMembership Team\n\nFocuses on involving and engaging new and existing GC participants. This work team is the first stop for anyone who wants to become part of Generation Charleston and connects interested participants with the respective work teams for further involvement. Contact Wes Page or Kim Zwier.
X-ALT-DESC;FMTTYPE=text/html:<span style="font-size: 12px\;"><span style="font-family: arial\;">Interested in getting involved with Generation Charleston&#39\;s Membership Team for planning various GC events? Email the team leaders below your resume and interest and get plugged in today!<br />\n<br />\nGeneration Charleston engages and empowers the Capital City&#39\;s emerging leaders to create a more vibrant and prosperous economy through community involvement\, professional development and social networking centered around a theme of Live\, Work\, Play! in Charleston\, the Kanawha Valley Region and West Virginia.</span></span><br />\n<br />\n<span style="font-size: 12px\;"><span style="font-family: arial\;"><strong><span style="color: rgb(247\, 150\, 70)\;">Membership Team</span></strong><br />\n<span style="color: black\;">Focuses on involving and engaging new and existing GC participants. This work team is the first stop for anyone who wants to become part of Generation Charleston and connects interested participants with the respective work teams for further involvement.&nbsp\;Contact&nbsp\;</span><a href="mailto:wpage@fsblaw.com?subject=Membership%20Team%20Inquiry"><span style="color: rgb(0\, 0\, 255)\;">Wes Page</span></a><span style="color: rgb(0\, 0\, 255)\;">&nbsp\;</span>or <a href="mailto:kimberly.zwier@53.com?subject=Membership%20Team%20Inquiry">Kim </a><a href="mailto:kimberly.zwier@53.com?subject=Membership%20Team%20Inquiry">Zwie</a>r.</span></span><br />\n<br />\n<br />\n
LOCATION:Various
UID:e.1499.575
SEQUENCE:3
DTSTAMP:20260422T062618Z
URL:https://business.charlestonareaalliance.org/events/details/generation-charleston-membership-team-meeting-08-12-2013-575
END:VEVENT

END:VCALENDAR
