BEGIN:VCALENDAR
VERSION:2.0
PRODID:-//ChamberMaster//Event Calendar 2.0//EN
METHOD:PUBLISH
X-PUBLISHED-TTL:P3D
REFRESH-INTERVAL:P3D
CALSCALE:GREGORIAN
BEGIN:VEVENT
DTSTART:20130816T220000Z
DTEND:20130817T003000Z
X-MICROSOFT-CDO-ALLDAYEVENT:FALSE
SUMMARY:Generation Charleston Mash-Up
DESCRIPTION:Come join Generation Charleston August 16 with a great mash up event to network with members of Generation Putnam and Huntington Young Professionals. \n\n\n\nThis event will take place at the Lazy Dog Saloon\, the Comfort Inn's newest restaurant/bar. Feel free to get into the theme of the lazy dog saloon and wear your cowboy boots and hat. This event will be held around both the indoor and outdoor swimming pool\, so you are welcome to bring your suit. \n\n\n\nDrop your card in the fish bowl and you will have the chance to win great give away prizes including a two week gym membership to iFiTT24 as well as free drink tickets and hors d'ouerves.\n\n \n\nThis is another great Generation Charleston event that presents members with the opportunity to mix and mingle with the area's young talent. Another reason why Charleston is a great place to Live\, Work\, and Play!  GC membership is free and open to the public\, but guests are required to register online in advance of the event.
X-ALT-DESC;FMTTYPE=text/html:Come join Generation Charleston August 16<sup> </sup>with a great mash up event to network with members of Generation Putnam and Huntington Young Professionals.&nbsp\;<br />\n<br />\nThis event will take place at the Lazy Dog Saloon\, the Comfort Inn&rsquo\;s newest restaurant/bar. Feel free to get into the theme of the lazy dog saloon and wear your cowboy boots and hat. This event will be held around both the indoor and outdoor swimming pool\, so you are welcome to bring your suit.&nbsp\;<br />\n<br />\nDrop your card in the fish bowl and you will have the chance to win great give away prizes including a two week gym membership to iFiTT24 as well as free drink tickets and hors d&rsquo\;ouerves.<br />\n&nbsp\;<br />\nThis is another great Generation Charleston event that presents members with the opportunity to mix and mingle with the area&rsquo\;s young talent. Another reason why Charleston is a great place to Live\, Work\, and Play!&nbsp\; GC membership is free and open to the public\, but guests are required to register online in advance of the event.&nbsp\; 
LOCATION:Comfort Inn Cross Lanes 102 Racer Dr. Cross Lanes\, WV 25313
UID:e.1499.660
SEQUENCE:3
DTSTAMP:20260422T062428Z
URL:https://business.charlestonareaalliance.org/events/details/generation-charleston-mash-up-08-16-2013-660
END:VEVENT

END:VCALENDAR
