BEGIN:VCALENDAR
VERSION:2.0
PRODID:-//ChamberMaster//Event Calendar 2.0//EN
METHOD:PUBLISH
X-PUBLISHED-TTL:P3D
REFRESH-INTERVAL:P3D
CALSCALE:GREGORIAN
BEGIN:VEVENT
DTSTART:20150224T223000Z
DTEND:20150225T003000Z
X-MICROSOFT-CDO-ALLDAYEVENT:FALSE
SUMMARY:Generation Charleston Kickoff 2015
DESCRIPTION:Generation Charleston\, the Charleston Area Alliance's emerging leaders program\, will host a 2015 kickoff event at Berry Hills Country Club on Feb. 24 from 5:30-7:30 p.m.\n\n\n\nThe event's keynote speaker will be former U.S. Senator Carte Goodwin\, now of Goodwin & Goodwin LLP. Join Generation Charleston for complimentary hors d'oeuvres\, drink specials and the opportunity to mix and mingle with the area's young talent.\n\n\n\nThe event is free to attend\, but RSVP is required.\n\n\n\nSponsored by BrickStreet Insurance\, Generation Charleston is a networking and community service/action group designed specifically for area young professionals to get to know each other\, get involved and make a difference.\n\n\n\nFor more information\, visit www.GenerationCharleston.com
X-ALT-DESC;FMTTYPE=text/html:Generation Charleston\, the Charleston Area Alliance&rsquo\;s emerging leaders program\, will host a 2015 kickoff event at Berry Hills Country Club on Feb. 24 from 5:30-7:30 p.m.<br />\n<br />\nThe event&rsquo\;s keynote speaker will be former U.S. Senator Carte Goodwin\, now of Goodwin &amp\; Goodwin LLP. Join Generation Charleston for complimentary hors d&rsquo\;oeuvres\, drink specials and the opportunity to mix and mingle with the area&rsquo\;s young talent.<br />\n<br />\nThe event is free to attend\, but RSVP is required.<br />\n<br />\nSponsored by BrickStreet Insurance\, Generation Charleston is a networking and community service/action group designed specifically for area young professionals to get to know each other\, get involved and make a difference.<br />\n<br />\nFor more information\, visit www.GenerationCharleston.com
LOCATION:Berry Hills Country Club 1 Berry Hills Drive
UID:e.1499.747
SEQUENCE:3
DTSTAMP:20260421T093556Z
URL:https://business.charlestonareaalliance.org/events/details/generation-charleston-kickoff-2015-02-24-2015-747
END:VEVENT

END:VCALENDAR
