BEGIN:VCALENDAR
VERSION:2.0
PRODID:-//ChamberMaster//Event Calendar 2.0//EN
METHOD:PUBLISH
X-PUBLISHED-TTL:P3D
REFRESH-INTERVAL:P3D
CALSCALE:GREGORIAN
BEGIN:VEVENT
DTSTART:20130325T213000Z
DTEND:20130325T230000Z
X-MICROSOFT-CDO-ALLDAYEVENT:FALSE
SUMMARY:Generation Charleston: Kickball League Informational Meeting
DESCRIPTION:Kickball Informational Meeting\n\n	Monday\, March 25\n\n	5:30-7 p.m.\n\n	Charleston Area Alliance\n\n	1116 Smith Street\, 25301\n\n	\n\n	Coed kickball. It's coming!\n\n	\n\n	Generation Charleston is bringing the old gym class favorite to Charleston this summer. \n\n	\n\n	The full details of the new Thursday night league will be released soon\, but right now\, we're giving GC members the opportunity to try for a leadership position.   \n\n	\n\n	Help us get kicking!\n\n	\n\n	We have room for: \n\n	\n		\n			Captains to rally teams of about 15 for their roster (with help from walk-on players.) \n		\n			Organizers to help run the league\, orchestrating\, setting up and cleaning after games. \n	\n	Interested in helping lead the league?\n\n	\n\n	Join the informational meeting on Monday\, March 25 at 5:30 p.m. in the Charleston Area Alliance large conference room\, or by contacting Wes Page at wpage@fsblaw.com.
X-ALT-DESC;FMTTYPE=text/html:<div style="color: gray\;">\n	<strong><span style="font-size: 11.5pt\;"><span style="font-family: arial\,sans-serif\;">Kickball Informational Meeting</span></span></strong><br />\n	<span style="font-size: 11.5pt\;"><span style="font-family: arial\,sans-serif\;">Monday\, March 25<br />\n	5:30-7 p.m.<br />\n	Charleston Area Alliance<br />\n	1116 Smith Street\, 25301<br />\n	<br />\n	Coed kickball. It&#39\;s coming!<br />\n	<br />\n	Generation Charleston is bringing the old gym class favorite to Charleston this summer.&nbsp\;<br />\n	<br />\n	The full details of the new Thursday night league will be released soon\, but right now\, we&#39\;re giving GC members the opportunity to try for a leadership position.&nbsp\;&nbsp\;&nbsp\;<br />\n	<br />\n	Help us get kicking!<br />\n	<br />\n	We have room for: </span></span><br />\n	<ul>\n		<li>\n			<span style="font-size: 11.5pt\;"><span style="font-family: arial\,sans-serif\;">Captains to rally teams of about 15 for their roster (with help from walk-on players.) </span></span></li>\n		<li>\n			<span style="font-size: 11.5pt\;"><span style="font-family: arial\,sans-serif\;">Organizers to help run the league\, orchestrating\, setting up and cleaning after games. </span></span></li>\n	</ul>\n	<span style="font-size: 11.5pt\;"><span style="font-family: arial\,sans-serif\;">Interested in helping lead the league?<br />\n	<br />\n	Join the informational meeting on Monday\, March 25 at 5:30 p.m.&nbsp\;in the Charleston Area Alliance large conference room\, or by contacting Wes Page at </span><a href="mailto:wpage@fsblaw.com"><span style="color: rgb(0\, 0\, 255)\;">wpage@fsblaw.com. </span></a></span><br />\n	&nbsp\;</div>\n
LOCATION:Charleston Area Alliance Large Conference Room 1116 Smith Street Charleston\, WV 25301
UID:e.1499.639
SEQUENCE:3
DTSTAMP:20260422T130454Z
URL:https://business.charlestonareaalliance.org/events/details/generation-charleston-kickball-league-informational-meeting-03-25-2013-639
END:VEVENT

END:VCALENDAR
