BEGIN:VCALENDAR
VERSION:2.0
PRODID:-//ChamberMaster//Event Calendar 2.0//EN
METHOD:PUBLISH
X-PUBLISHED-TTL:P3D
REFRESH-INTERVAL:P3D
CALSCALE:GREGORIAN
BEGIN:VEVENT
DTSTART:20130718T220000Z
DTEND:20130719T010000Z
X-MICROSOFT-CDO-ALLDAYEVENT:FALSE
SUMMARY:Generation Charleston: Kickball League Games
DESCRIPTION:Generation Charleston is stepping up to home plate to (literally) kick off a season of CO-ED KICKBALL! Yeah\, the gym class favorite you loved as a kid is calling you out to the field as an adult! It's the same fun game you remember from elementary school\, but now it's all grown up. (But don't worry\, you don't have to act like a "grown-up" to play.) No skills are needed\, just a desire to come out and have a good time. Kickball is a sport that everyone can play and you don't need to be a fantastic athlete to be a terrific kickballer. So grab some friends\, dust off your spikes and come kick it!\n\n\n\nNo lining up along the wall\, crossing your fingers to not be last picked. Up to 12 teams can assemble their own unlimited rosters\, or players can sign up individually as "free agents" to be assigned to a team. Only 10 players can take the field at a time (everyone is in the kicking lineup)\, and ladies aren't second-string: at least 4 of the players in the game must be female. There will be a $25 fee for each player to help with t-shirts\, equipment\, umpires\, field rental\, and operational costs.\n\n\n\n\n\nPlay with us! Support the teams:\n\nGames will be at Schoenbaum soccer field at Coonskin Park Thursday evenings\, June 20 through Aug. 1 (excluding the July 4 holiday) 6 p.m. - 9 p.m. (Individual games last 1 hour)\n\n\n\n\n\nPost Season League Tournament: \n\nBring your 'A' game and Face off at the post season league tournament Saturday\, Aug. 3 from 10 a.m. to 2 p.m.\n\n\n\n\n\nJoin the teams at the Red Carpet Lounge:\n\nAfter the games\, players are invited to our sponsor establishment\, the Red Carpet Lounge\, 308 Elizabeth Street\, to hang out and enjoy drink specials courtesy of Proud Eagle\, Inc. Distributors.\n\nYour registration fee of $25 per player (minimum 15 players per team) includes:\n\n\n	Kickball League Generation Charlestont-shirt\n	6 weekly games of kickball\, plus the post season tournament\n	Drink specials after the games at sponsor bar\n	Plenty of opportunities to hang out with old friends and meet new ones\n\n\n\n\nSchedule & Rules:\n\nView the season's schedule here. Need a rules refresher? Find the notes here.
X-ALT-DESC;FMTTYPE=text/html:<div style="color: gray\;"><span style="color: rgb(0\, 0\, 0)\;"><strong><span style="font-size: 10pt\;"><span style="font-family: arial\,sans-serif\;">Generation Charleston</span></span></strong>&nbsp\;is <span style="font-size: 10pt\;"><span style="font-family: arial\,sans-serif\;">stepping up to home plate to (literally) kick off a season of CO-ED KICKBALL! Yeah\, the gym class favorite you loved as a kid is calling you out to the field as an adult! It&rsquo\;s the same fun game you remember from elementary school\, but now it&rsquo\;s all grown up. (But don&rsquo\;t worry\, you don&rsquo\;t have to act like a &ldquo\;grown-up&rdquo\; to play.) No skills are needed\, just a desire to come out and have a good time. Kickball is a sport that everyone can play and you don&rsquo\;t need to be a fantastic athlete to be a terrific kickballer. So grab some friends\, dust off your spikes and come kick it!<br />\n<br />\nNo lining up along the wall\, crossing your fingers to not be last picked. Up to 12 teams can assemble their own unlimited rosters\, or players can sign up individually as &ldquo\;free agents&rdquo\; to be assigned to a team. Only 10 players can take the field at a time (everyone is in the kicking lineup)\, and ladies aren&#39\;t second-string: at least 4 of the players in the game must be female. There will be a $25 fee for each player to help with t-shirts\, equipment\, umpires\, field rental\, and operational costs.</span></span></span><br />\n<br />\n<br />\n<strong><span style="color: rgb(255\, 140\, 0)\;"><span style="font-size: 10pt\;"><span style="font-family: arial\,sans-serif\;">Play with us!&nbsp\;Support the teams:</span></span></span></strong><br />\n<span style="color: rgb(0\, 0\, 0)\;"><span style="font-size: 10pt\;"><span style="font-family: arial\,sans-serif\;">Games will be at&nbsp\;<strong><span style="font-family: arial\,sans-serif\;">Schoenbaum soccer field at Coonskin Park</span></strong>&nbsp\;Thursday evenings\, June 20 through Aug. 1 (excluding the July 4 holiday) 6 p.m. - 9 p.m. (Individual games last 1 hour)</span></span></span><br />\n<br />\n<br />\n<span style="color: rgb(255\, 140\, 0)\;"><span style="font-size: 10pt\;"><span style="font-family: arial\,sans-serif\;"><strong>Post Season League Tournament: </strong></span></span></span><br />\n<span style="color: rgb(0\, 0\, 0)\;"><span style="font-size: 10pt\;"><span style="font-family: arial\,sans-serif\;">Bring your &#39\;A&#39\; game and Face off at the post season league tournament Saturday\, Aug. 3 from 10 a.m. to 2 p.m.</span></span></span><br />\n<br />\n<br />\n<span style="font-size: 10pt\;"><span style="font-family: arial\,sans-serif\;"><strong><span style="color: rgb(255\, 140\, 0)\;">Join the teams at the Red Carpet Lounge:</span></strong><br />\n<span style="color: black\;">After the games\, players are invited to our sponsor establishment\, the Red Carpet Lounge\, 308 Elizabeth Street\, to hang out and enjoy drink specials courtesy of Proud Eagle\, Inc. Distributors.</span></span></span><br />\n<span style="font-size: 10pt\;"><span style="font-family: arial\,sans-serif\;"><span style="color: black\;">Your registration fee of $25 per player (minimum 15 players per team) includes:</span></span></span>\n\n<ul>\n	<li style="background: white\; color: black\;"><span style="font-size: 10pt\;"><span style="font-family: arial\,sans-serif\;">Kickball League Generation Charlestont-shirt</span></span></li>\n	<li style="background: white\; color: black\;"><span style="font-size: 10pt\;"><span style="font-family: arial\,sans-serif\;">6 weekly games of kickball\, plus the post season tournament</span></span></li>\n	<li style="background: white\; color: black\;"><span style="font-size: 10pt\;"><span style="font-family: arial\,sans-serif\;">Drink specials after the games at sponsor bar</span></span></li>\n	<li style="background: white\; color: black\;"><span style="font-size: 10pt\;"><span style="font-family: arial\,sans-serif\;">Plenty of opportunities to hang out with old friends and meet new ones</span></span></li>\n</ul>\n\n<div style="background: white\; color: black\;"><br />\n<span style="font-size: 10pt\;"><span style="font-family: arial\,sans-serif\;"><span style="color: rgb(255\, 140\, 0)\;"><strong>Schedule &amp\; Rules:</strong></span><br />\nView the season&#39\;s schedule <a href="http://www.allprosoftware.net/gckickball/ls3.htm">here</a>. Need a rules refresher? Find the notes&nbsp\;<a href="http://www.gckickball.com/gckickballrules.pdf">here</a>.</span></span></div>\n</div>\n
LOCATION:Coonskin Park Schoenbaum Soccer Field 2000 Coonskin Drive Charleston\, WV 25311
UID:e.1499.651
SEQUENCE:3
DTSTAMP:20260422T085708Z
URL:https://business.charlestonareaalliance.org/events/details/generation-charleston-kickball-league-games-07-18-2013-651
END:VEVENT

END:VCALENDAR
