BEGIN:VCALENDAR
VERSION:2.0
PRODID:-//ChamberMaster//Event Calendar 2.0//EN
METHOD:PUBLISH
X-PUBLISHED-TTL:P3D
REFRESH-INTERVAL:P3D
CALSCALE:GREGORIAN
BEGIN:VEVENT
DTSTART;VALUE=DATE:20150511
DTEND;VALUE=DATE:20150612
TRANSP:TRANSPARENT
X-MICROSOFT-CDO-ALLDAYEVENT:TRUE
SUMMARY:Generation Charleston KickBall League
DESCRIPTION:Generation Charleston is back to kick off its third season season of CO-ED KICKBALL! So grab some friends\, dust off your spikes and come kick it!\n\n\n\nTEAMS\n\nNo lining up along the wall\, crossing your fingers to not be last picked. Up to 18 teams can assemble their own unlimited rosters\, or players can sign up individually as free agents to be assigned to a team. But only 10 players can take the field at a time\, and ladies aren't second-string: at least 4 of the players in the game must be female. Click here to review the Generation Charleston Kickball League rules.\n\n\n\nWe reserve the right to combine teams and/or add free agent players based on the number of players registered. Each team must have at least 10 registered players\, including four female registered players.\n\n\n\nCOST\n\nTeam captains can create a team by registering and submitting a $50\, which also includes their personal player registration. Players\, including team players and free agent players\, register for a $30 fee per player.\n\n\n\nSCHEDULE AND LOCATION\n\nGames will be at Schoenbaum Soccer Stadium at Coonskin Park. Sign up for our Wednesday division or our Thursday division (9 teams each).   The season will run every week from July 8-9 through August 12-13\, with games beginning at 6\, 7 and 8 p.m. (Individual games last 1 hour\, some teams will play double-headers.)\n\n\n\nTOURNEY\n\nTop teams from each division will face off at the league tournament Saturday\, Aug. 15 from 9 a.m. to 3 p.m.\n\n\n\nMAKE IT SOCIAL\n\nAfter the games\, players are invited to our sponsor establishment\, the Red Carpet Lounge\, 308 Elizabeth Street\, to hang out and enjoy drink specials courtesy of Proud Eagle\, Inc. Distributors.\n\n\n\nGET KICKIN'\n\nReady to join? Register your team today. Once you receive confirmation that your team has been created (may take up to 24 hours)\, your team players are able to proceed with player registration. If you're a player who'd like to be assigned a team\, please register as a free agent. If you have friends registering as free agents that you'd like to placed with make a note in the comments section to be placed on the same team. \n\n\n\nIf you have any issues with the player registration process contact Lesli Forbes at the Charleston Area Alliance.\n\n\n\nAll available openings are on a first-paid\, first-served basis. So don't delay!\n\n\n\nGeneration Charleston is a committee of the Charleston Area Alliance and supported through sponsored by BrickStreet Insurance.
X-ALT-DESC;FMTTYPE=text/html:Generation Charleston is back to kick off its third season season of CO-ED KICKBALL! So grab some friends\, dust off your spikes and come kick it!<br />\n<br />\n<strong>TEAMS</strong><br />\nNo lining up along the wall\, crossing your fingers to not be last picked. Up to 18 teams can assemble their own unlimited rosters\, or players can sign up individually as<strong> </strong>free agents to be assigned to a team. But only 10 players can take the field at a time\, and ladies aren&rsquo\;t second-string: at least 4 of the players in the game must be female. <a href="http://www.generationcharleston.com/kickball/rules/index.html" target="_blank">Click here</a> to review the Generation Charleston Kickball League rules.<br />\n<br />\nWe reserve the right to combine teams and/or add free agent players based on the number of players registered. Each team must have at least 10 registered players\, including&nbsp\;four female registered players.<br />\n<br />\n<strong>COST</strong><br />\nTeam captains can&nbsp\;create a team by registering and submitting a $50\, which also includes their personal player registration.&nbsp\;Players\, including team players and free agent players\,&nbsp\;register for&nbsp\;a $30 fee per&nbsp\;player.<br />\n<br />\n<strong>SCHEDULE AND LOCATION</strong><br />\nGames will be at Schoenbaum Soccer Stadium&nbsp\;at Coonskin Park. Sign up for our Wednesday division or our Thursday division (9 teams each).&nbsp\;&nbsp\; The season will run every week from July 8-9&nbsp\;through August 12-13\, with games beginning at 6\, 7 and&nbsp\;8 p.m. (Individual games last 1 hour\, some teams will play double-headers.)<br />\n<br />\n<strong>TOURNEY</strong><br />\nTop teams from each division will face off at the league tournament Saturday\, Aug. 15 from 9 a.m. to 3 p.m.<br />\n<br />\n<strong>MAKE IT SOCIAL</strong><br />\nAfter the games\, players are invited to our sponsor establishment\, the Red Carpet Lounge\, 308 Elizabeth Street\, to hang out and enjoy drink specials courtesy of Proud Eagle\, Inc. Distributors.<br />\n<br />\n<strong>GET KICKIN&rsquo\;</strong><br />\nReady to join? Register your team today. Once you receive confirmation that your team has been created (may take up to 24 hours)\, your team players are able to proceed with player registration. If you&#39\;re a player who&#39\;d like to be assigned a team\, please register as a free agent. If you have&nbsp\;friends registering as free agents that you&#39\;d like to placed with&nbsp\;make a note in the comments section to&nbsp\;be placed&nbsp\;on the same team.&nbsp\;<br />\n<br />\nIf you&nbsp\;have any&nbsp\;issues with the player registration process&nbsp\;contact <a href="mailto:lforbes@charlestonareaalliance.org?subject=GC%20Kickball">Lesli Forbes </a>at the Charleston Area Alliance.<br />\n<br />\nAll available openings are on a first-paid\, first-served basis. So don&rsquo\;t delay!<br />\n<br />\n<em>Generation Charleston is a committee of the Charleston Area Alliance and supported through sponsored by BrickStreet Insurance.</em>
LOCATION:Schoenbaum Soccer Stadium in Coonskin Park\, located at 2000 Coonskin Drive\, Charleston
UID:e.1499.776
SEQUENCE:3
DTSTAMP:20260421T030600Z
URL:https://business.charlestonareaalliance.org/events/details/generation-charleston-kickball-league-05-11-2015-776
END:VEVENT

END:VCALENDAR
