BEGIN:VCALENDAR
VERSION:2.0
PRODID:-//ChamberMaster//Event Calendar 2.0//EN
METHOD:PUBLISH
X-PUBLISHED-TTL:P3D
REFRESH-INTERVAL:P3D
CALSCALE:GREGORIAN
BEGIN:VEVENT
DTSTART:20161220T230000Z
DTEND:20161221T010000Z
X-MICROSOFT-CDO-ALLDAYEVENT:FALSE
SUMMARY:Generation Charleston Holiday Reception
DESCRIPTION:Join Generation Charleston\, the Alliance's young talent committee\, for a Holiday Reception 6-8 p.m. Tuesday\, Dec. 20 at the Embassy Suites.
X-ALT-DESC;FMTTYPE=text/html:Join Generation Charleston\, the Alliance&#39\;s young talent committee\, for a Holiday Reception 6-8 p.m. Tuesday\, Dec. 20 at the Embassy Suites. &nbsp\;
LOCATION:Embassy Suites 300 Court Street Charleston\, WV 25301
UID:e.1499.1888
SEQUENCE:3
DTSTAMP:20260420T025016Z
URL:https://business.charlestonareaalliance.org/events/details/generation-charleston-holiday-reception-1888
END:VEVENT

END:VCALENDAR
