BEGIN:VCALENDAR
VERSION:2.0
PRODID:-//ChamberMaster//Event Calendar 2.0//EN
METHOD:PUBLISH
X-PUBLISHED-TTL:P3D
REFRESH-INTERVAL:P3D
CALSCALE:GREGORIAN
BEGIN:VEVENT
DTSTART:20140426T140000Z
DTEND:20140426T180000Z
X-MICROSOFT-CDO-ALLDAYEVENT:FALSE
SUMMARY:Generation Charleston Hamilton Trail Build
DESCRIPTION:Generation Charleston Hamilton Trail Build\n\nSaturday\, April 26\, 10:00am
X-ALT-DESC;FMTTYPE=text/html:Generation Charleston Hamilton Trail Build<br />\nSaturday\, April 26\, 10:00am&nbsp\;&nbsp\;&nbsp\;
LOCATION:Hamilton Trail at Danner Park
UID:e.1499.705
SEQUENCE:3
DTSTAMP:20260421T202312Z
URL:https://business.charlestonareaalliance.org/events/details/generation-charleston-hamilton-trail-build-04-26-2014-705
END:VEVENT

END:VCALENDAR
