BEGIN:VCALENDAR
VERSION:2.0
PRODID:-//ChamberMaster//Event Calendar 2.0//EN
METHOD:PUBLISH
X-PUBLISHED-TTL:P3D
REFRESH-INTERVAL:P3D
CALSCALE:GREGORIAN
BEGIN:VEVENT
DTSTART:20170531T213000Z
DTEND:20170531T233000Z
X-MICROSOFT-CDO-ALLDAYEVENT:FALSE
SUMMARY:Generation Charleston Get Out & Move Social Hour
DESCRIPTION:Generation Charleston\, the Alliance's young talent committee\, will host Get Out & Move as its monthly Social Hour 5:30 - 7:30 p.m. Wednesday\, May 24 at Haddad Riverfront Park.\n\n\n\nWhen the office closes\, change into your athleisure and head down to the levee to discover ways you can get out and move in the capital city. Take part in a group run\, hop on a mat for a DJ-powered yoga class\, get in the spin with a hula-hoop workout\, explore the Kanawha River on a paddle board\, move to the beat with Zumba and network with colleagues over healthy snacks. \n\n\n\nSocial Hour is free to attend. Guests are encouraged to register online for the event. \n\n\n\nGeneration Charleston aims integrate up-and-coming professionals into the Charleston community through community involvement\, professional development and networking opportunities throughout the year. Many of the programs are free or low-cost to young talent.\n\n\n\nEvent contributors include Appalachian Boarding Company\; Bunmi Kusimo-Frazier\, certified yoga instructor\; Tailgate 107.3\; Mid-Ohio Valley Hoopla\; and the YMCA of Charleston.
X-ALT-DESC;FMTTYPE=text/html:Generation Charleston\, the Alliance&#39\;s young talent committee\, will host Get Out &amp\; Move as its monthly Social Hour 5:30 - 7:30 p.m. Wednesday\, May 24 at&nbsp\;Haddad&nbsp\;Riverfront Park.<br />\n<br />\nWhen the office closes\, change into your&nbsp\;athleisure&nbsp\;and head down to the levee to discover ways&nbsp\;you can get out and move in the capital city.&nbsp\;Take part in a group&nbsp\;run\, hop on a mat for a DJ-powered yoga class\, get in the spin with a hula-hoop workout\, explore&nbsp\;the&nbsp\;Kanawha&nbsp\;River on a paddle board\, move to the beat with Zumba and&nbsp\;network with colleagues over healthy snacks.&nbsp\;<br />\n<br />\nSocial Hour is free to attend. Guests are encouraged to register online for the event.&nbsp\;<br />\n<br />\nGeneration Charleston&nbsp\;aims&nbsp\;integrate&nbsp\;up-and-coming&nbsp\;professionals into the Charleston community through&nbsp\;community involvement\, professional development&nbsp\;and networking opportunities throughout the year. Many of the programs are free or low-cost to young talent.<br />\n<br />\nEvent contributors include <a href="http://www.appalachianboardingcompany.com/" target="_blank">Appalachian Boarding Company</a>\;&nbsp\;Bunmi&nbsp\;Kusimo-Frazier\, certified yoga instructor\;&nbsp\;<a href="http://tailgate1073.com/" target="_blank">Tailgate 107.3</a>\;&nbsp\;<a href="https://movhoopla.com/" target="_blank">Mid-Ohio Valley Hoopla</a>\; and the&nbsp\;<a href="http://ymcaofkv.org/" target="_blank">YMCA of Charleston</a>.&nbsp\;<br />\n<br />\n&nbsp\;
LOCATION:Haddad Riverfront Park Charleston\, WV
UID:e.1499.1935
SEQUENCE:3
DTSTAMP:20260419T203000Z
URL:https://business.charlestonareaalliance.org/events/details/generation-charleston-get-out-move-social-hour-1935
END:VEVENT

END:VCALENDAR
