BEGIN:VCALENDAR
VERSION:2.0
PRODID:-//ChamberMaster//Event Calendar 2.0//EN
METHOD:PUBLISH
X-PUBLISHED-TTL:P3D
REFRESH-INTERVAL:P3D
CALSCALE:GREGORIAN
BEGIN:VEVENT
DTSTART:20140429T213000Z
DTEND:20140429T223000Z
X-MICROSOFT-CDO-ALLDAYEVENT:FALSE
SUMMARY:Generation Charleston Downtown Housing Forum - April 2014
DESCRIPTION:Join Generation Charleston for a forum discussing the future of housing in the downtown Charleston area.\n\n\n\nThe forum\, which is scheduled for April 29\, will feature David Molgaard\, Charleston's city manager.\n\n\n\nMolgaard will discuss the Charleston EDGE (Early Dynamic Guided Engagement) project. This project targets downtown housing needs as well as the business community's desire to recruit and retain talent in Charleston.\n\n\n\nThe ultimate goal is to cultivate lifelong engagement by young professionals through a program of early civic interaction and empowerment within an urban housing to home ownership program. \n\n\n\nThe event is FREE to attend. For more information\, visit www.GenerationCharleston.com
X-ALT-DESC;FMTTYPE=text/html:<br />\nJoin Generation Charleston for a forum discussing the future of housing in the downtown Charleston area.<br />\n<br />\nThe forum\, which is scheduled for April 29\, will feature David Molgaard\, Charleston&#39\;s city manager.<br />\n<br />\nMolgaard will discuss the Charleston EDGE (Early Dynamic Guided Engagement) project. This project targets downtown housing needs as well as the business community&rsquo\;s desire to recruit and retain talent in Charleston.<br />\n<br />\nThe ultimate goal is to cultivate lifelong engagement by young professionals through a program of early civic interaction and empowerment within an urban housing to home ownership program.&nbsp\;<br />\n<br />\nThe event is FREE to attend. For more information\, visit www.GenerationCharleston.com
LOCATION:Charleston Area Alliance 1116 Smith Street
UID:e.1499.704
SEQUENCE:3
DTSTAMP:20260421T202359Z
URL:https://business.charlestonareaalliance.org/events/details/generation-charleston-downtown-housing-forum-april-2014-04-29-2014-704
END:VEVENT

END:VCALENDAR
