BEGIN:VCALENDAR
VERSION:2.0
PRODID:-//ChamberMaster//Event Calendar 2.0//EN
METHOD:PUBLISH
X-PUBLISHED-TTL:P3D
REFRESH-INTERVAL:P3D
CALSCALE:GREGORIAN
BEGIN:VEVENT
DTSTART:20130806T213000Z
DTEND:20130806T223000Z
X-MICROSOFT-CDO-ALLDAYEVENT:FALSE
SUMMARY:Generation Charleston Community Outreach Team Meeting
DESCRIPTION:Interested in getting involved with Generation Charleston's Community Outreach Team for planning various GC events? Email the team leaders below your resume and interest and get plugged in today!\n\n	\n\n	Generation Charleston engages and empowers the Capital City's emerging leaders to create a more vibrant and prosperous economy through community involvement\, professional development and social networking centered around a theme of Live\, Work\, Play! in Charleston\, the Kanawha Valley Region and West Virginia.\n\n	\n\n	Community Outreach Team\n\n	Connecting GC participants with volunteer opportunities in the region\, this work team also coordinates GC's quarterly volunteer and community service projects and works to match young professionals with local non-profit board positions. Contact Beth Fanning.
X-ALT-DESC;FMTTYPE=text/html:<div style="color: gray\;">\n	<span style="color: rgb(0\, 0\, 0)\;"><span style="font-size: 12px\;"><span style="font-family: arial\;">Interested in getting involved with Generation Charleston&#39\;s&nbsp\;Community Outreach&nbsp\;Team for planning various GC events? Email the team leaders below your resume and interest and get plugged in today!<br />\n	<br />\n	Generation Charleston engages and empowers the Capital City&#39\;s emerging leaders to create a more vibrant and prosperous economy through community involvement\, professional development and social networking centered around a theme of Live\, Work\, Play! in Charleston\, the Kanawha Valley Region and West Virginia.</span></span></span><br />\n	<br />\n	<span style="font-size: 12px\;"><span style="font-family: arial\;"><strong><span style="color: rgb(247\, 150\, 70)\;">Community Outreach Team</span></strong><br />\n	<span style="color: black\;">Connecting GC participants with volunteer opportunities in the region\, this work team also coordinates GC&#39\;s quarterly volunteer and community service projects and works to match young professionals with local non-profit board positions. Contact <a href="mailto:bfanning@theclaycenter.org?subject=Community%20Outreach%20Team%20Inquiry">Beth Fanning</a>.</span></span></span></div>\n
LOCATION:Various
UID:e.1499.629
SEQUENCE:3
DTSTAMP:20260422T062729Z
URL:https://business.charlestonareaalliance.org/events/details/generation-charleston-community-outreach-team-meeting-08-06-2013-629
END:VEVENT

END:VCALENDAR
