BEGIN:VCALENDAR
VERSION:2.0
PRODID:-//ChamberMaster//Event Calendar 2.0//EN
METHOD:PUBLISH
X-PUBLISHED-TTL:P3D
REFRESH-INTERVAL:P3D
CALSCALE:GREGORIAN
BEGIN:VEVENT
DTSTART:20110409T040000Z
DTEND:20110409T040000Z
X-MICROSOFT-CDO-ALLDAYEVENT:FALSE
SUMMARY:Generation Charleston Charliewood 2011
DESCRIPTION:
X-ALT-DESC;FMTTYPE=text/html:
LOCATION:Old Daniel Boone Hotel
UID:e.1499.398
SEQUENCE:3
DTSTAMP:20260425T035115Z
URL:https://business.charlestonareaalliance.org/events/details/generation-charleston-charliewood-2011-04-09-2011-398
END:VEVENT

END:VCALENDAR
