BEGIN:VCALENDAR
VERSION:2.0
PRODID:-//ChamberMaster//Event Calendar 2.0//EN
METHOD:PUBLISH
X-PUBLISHED-TTL:P3D
REFRESH-INTERVAL:P3D
CALSCALE:GREGORIAN
BEGIN:VEVENT
DTSTART:20100807T040000Z
DTEND:20100807T040000Z
X-MICROSOFT-CDO-ALLDAYEVENT:FALSE
SUMMARY:Generation Charleston Celebration 2010- UC
DESCRIPTION:
X-ALT-DESC;FMTTYPE=text/html:
LOCATION:University of Charleston - Ballroom
UID:e.1499.355
SEQUENCE:3
DTSTAMP:20260425T151800Z
URL:https://business.charlestonareaalliance.org/events/details/generation-charleston-celebration-2010-uc-08-07-2010-355
END:VEVENT

END:VCALENDAR
