BEGIN:VCALENDAR
VERSION:2.0
PRODID:-//ChamberMaster//Event Calendar 2.0//EN
METHOD:PUBLISH
X-PUBLISHED-TTL:P3D
REFRESH-INTERVAL:P3D
CALSCALE:GREGORIAN
BEGIN:VEVENT
DTSTART:20160913T223000Z
DTEND:20160914T003000Z
X-MICROSOFT-CDO-ALLDAYEVENT:FALSE
SUMMARY:Generation Charleston CAMC Opportunity Event
DESCRIPTION:On Tuesday\, September 13\, the Charleston Area Medical Center Foundation and CAMC Employment Center invite Generation Charleston\, young professionals and community members to spend an evening learning about career opportunities at CAMC as well as the importance of philanthropy.\n\n\n\nAttendees will hear from Bryan Cummings\, Senior Development Officer at the CAMC Foundation\, and Tatem Grimm\, Healthcare Recruitment Specialist.   Facility tours will be offered along with light refreshments. This event is free and runs 5:30   7:30 pm. The cancer center is located at 3415 MacCorkle Avenue\, Charleston\, WV 25301.
X-ALT-DESC;FMTTYPE=text/html:<span style="font-family:calibri\,sans-serif\;"><span style="font-size:12.0pt\;">On Tuesday\, September 13\, the Charleston Area Medical Center Foundation and CAMC Employment Center invite Generation Charleston\, young professionals and community members to spend an evening learning about career opportunities at CAMC as well as the importance of philanthropy.<br />\n<br />\nAttendees will hear from Bryan Cummings\, Senior Development Officer at the CAMC Foundation\, and Tatem Grimm\, Healthcare Recruitment Specialist. &nbsp\; Facility tours will be offered along with light refreshments. This event is free and runs 5:30 &ndash\; 7:30 pm. The cancer center is located at 3415 MacCorkle Avenue\, Charleston\, WV 25301. &nbsp\;&nbsp\;</span></span>
LOCATION:3415 MacCorkle Avenue Charleston\, WV 25304
UID:e.1499.1876
SEQUENCE:3
DTSTAMP:20260420T064627Z
URL:https://business.charlestonareaalliance.org/events/details/generation-charleston-camc-opportunity-event-1876
END:VEVENT

END:VCALENDAR
