BEGIN:VCALENDAR
VERSION:2.0
PRODID:-//ChamberMaster//Event Calendar 2.0//EN
METHOD:PUBLISH
X-PUBLISHED-TTL:P3D
REFRESH-INTERVAL:P3D
CALSCALE:GREGORIAN
BEGIN:VEVENT
DTSTART:20150313T194500Z
DTEND:20150313T210000Z
X-MICROSOFT-CDO-ALLDAYEVENT:FALSE
SUMMARY:Generation Charleston - CAMC Cancer Center Tour
DESCRIPTION:Join Generation Charleston for a tour of Charleston Area Medical Center's new Cancer Center\, along MacCorkle Avenue in Kanawha City\, before the facility opens its doors to patients in Spring 2015. As cancer rates grow\, this new comprehensive state-of-the-art cancer center is a welcome addition to our community. \n\n\n\nThe tour is limited to the first 15 members who RSVP. Hard hats will be provided. No open-toed shoes.
X-ALT-DESC;FMTTYPE=text/html:Join Generation Charleston for a tour of Charleston Area Medical Center&#39\;s new Cancer Center\, along MacCorkle Avenue in Kanawha City\, before the facility opens its doors to patients in Spring 2015. As cancer rates grow\, this new comprehensive state-of-the-art cancer center is a welcome addition to our community.&nbsp\;<br />\n<br />\nThe tour is limited to the first 15 members who RSVP.&nbsp\;Hard hats will be provided. No open-toed shoes.
LOCATION:CAMC Cancer Center\, along MacCorkle Avenue in Kanawha City on the old Watt Powell Park property across from CAMC Memorial Hospital.
UID:e.1499.755
SEQUENCE:3
DTSTAMP:20260421T082229Z
URL:https://business.charlestonareaalliance.org/events/details/generation-charleston-camc-cancer-center-tour-03-13-2015-755
END:VEVENT

END:VCALENDAR
