BEGIN:VCALENDAR
VERSION:2.0
PRODID:-//ChamberMaster//Event Calendar 2.0//EN
METHOD:PUBLISH
X-PUBLISHED-TTL:P3D
REFRESH-INTERVAL:P3D
CALSCALE:GREGORIAN
BEGIN:VEVENT
DTSTART:20140319T220000Z
DTEND:20140319T233000Z
X-MICROSOFT-CDO-ALLDAYEVENT:FALSE
SUMMARY:Generation Charleston Book Club - March 2014
DESCRIPTION:Generation Charleston Book Club\n\nWednesday\, March 19\n\n6:00-7:30 p.m.\n\nTaylor Books\n\n226 Capitol Street\n\n\n\nBibliophile?\n\n\n\nThen join Generation Charleston for the first meeting of its new book club.  \n\n\n\nThis special organization meeting will be hosted in the Taylor Books Art Annex\, and will decide what books the Club will read.    \n\n\n\nSuggestions include:\n\n\n\nThe Selfish Gene by Richard Dawkins:\n\n\n\nEver wondered where the term "meme" came from? This is one of the most important popular science books of the 20th century.   \n\n\n\nStranger in a Strange Land by Robert Heinlein:\n\n\n\nNamed by the Library of Congress as one of the "Books that Shaped America\," this is a science-fiction masterpiece.   \n\n\n\nDarkness at Noon by Arthur Koestler: \n\n\n\nConsidered one of the best novels of the 20th century\, this is a chilling look at life in Stalinist Russia.   \n\n\n\nWant another book included?\n\n\n\nBring your suggestions to the meeting!\n\n\n\nCome enjoy great literature with Charleston's young professionals!   {Insert RSVP button here}\n\n\n\nGeneration Charleston: Live\, Work\, Play!\n\n\n\n Questions? Contact Samuel Settle at 304-881-5460 or SamuelSettle@gmail.com
X-ALT-DESC;FMTTYPE=text/html:<br />\n<strong>Generation Charleston Book Club</strong><br />\nWednesday\, March 19<br />\n6:00-7:30 p.m.<br />\nTaylor Books<br />\n226 Capitol Street<br />\n<br />\nBibliophile?<br />\n<br />\nThen join Generation Charleston for the first meeting of its new book club. &nbsp\;<br />\n<br />\nThis special organization meeting will be hosted in the Taylor Books Art Annex\, and will decide what books the Club will read.&nbsp\;&nbsp\; &nbsp\;<br />\n<br />\nSuggestions include:<br />\n<br />\n<strong>The Selfish Gene by Richard Dawkins:</strong><br />\n<br />\nEver wondered where the term &ldquo\;meme&rdquo\; came from? This is one of the most important popular science books of the 20th century.&nbsp\; &nbsp\;<br />\n<br />\n<strong>Stranger in a Strange Land by Robert Heinlein:</strong><br />\n<br />\nNamed by the Library of Congress as one of the &ldquo\;Books that Shaped America\,&rdquo\; this is a science-fiction masterpiece.&nbsp\; &nbsp\;<br />\n<br />\n<strong>Darkness at Noon by Arthur Koestler: </strong><br />\n<br />\nConsidered one of the best novels of the 20th century\, this is a chilling look at life in Stalinist Russia.&nbsp\; &nbsp\;<br />\n<br />\nWant another book included?<br />\n<br />\nBring your suggestions to the meeting!<br />\n<br />\nCome enjoy great literature with Charleston&rsquo\;s young professionals!&nbsp\;&nbsp\; {Insert RSVP button here}<br />\n<br />\nGeneration Charleston: Live\, Work\, Play!<br />\n<br />\n&nbsp\;Questions? Contact Samuel Settle at 304-881-5460 or SamuelSettle@gmail.com<br />\n<br />\n<br />\n&nbsp\;
LOCATION:Taylor Books 226 Capitol Street
UID:e.1499.697
SEQUENCE:3
DTSTAMP:20260421T213905Z
URL:https://business.charlestonareaalliance.org/events/details/generation-charleston-book-club-march-2014-03-19-2014-697
END:VEVENT

END:VCALENDAR
