BEGIN:VCALENDAR
VERSION:2.0
PRODID:-//ChamberMaster//Event Calendar 2.0//EN
METHOD:PUBLISH
X-PUBLISHED-TTL:P3D
REFRESH-INTERVAL:P3D
CALSCALE:GREGORIAN
BEGIN:VEVENT
DTSTART:20131010T213000Z
DTEND:20131010T230000Z
X-MICROSOFT-CDO-ALLDAYEVENT:FALSE
SUMMARY:Generation Charleston and West Virginia Housing Development Fund Homebuyers Blueprint
DESCRIPTION:Generation Charleston\n\nHomebuyers Blueprint\n\nThursday\, Oct. 10\n\n5:30-7:00 p.m.\n\nHabitat For Humanity Homeowner Education & Community Center\n\n815 Court St\n\n\n\nAre you planning to purchase a home?\n\n\n\nIf so\, you need the "Homebuyers Blueprint."\n\n\n\nThe event from Generation Charleston and the West Virginia Housing Development Fund will provide all of the necessary steps you will need when looking for the perfect place.\n\n \n\nTopics that will be discussed during the panel discussion include: lending and interest rates\, home inspections\, insurance and various programs that can assist you in the home buying process.\n\n\n\nPanelists at the event include:\n\n     George Gannon\, West Virginia Housing Development Fund\n\n     Emiliee Love\, mortgage lender\, United Bank\n\n     Teri Rugeley\, realtor\, Old Colony\n\n     Don Wilson\, insurance agent\, Garlow Insurance Agency\n\n     Joey Garcia\, recent homebuyer\n\n\n\nThe event is free to attend\, but RSVP is required.\n\n\n\nRefreshments will be provided.\n\n\n\nGeneration Charleston: Live\, Work\, Play!
X-ALT-DESC;FMTTYPE=text/html:<br />\n<strong>Generation Charleston<br />\nHomebuyers Blueprint</strong><br />\nThursday\, Oct. 10<br />\n5:30-7:00 p.m.<br />\nHabitat For Humanity Homeowner Education &amp\; Community Center<br />\n815 Court St<br />\n<br />\nAre you planning to purchase a home?<br />\n<br />\nIf so\, you need the &quot\;Homebuyers Blueprint.&quot\;<br />\n<br />\nThe event from Generation Charleston and the West Virginia Housing Development Fund will provide all of the necessary steps you will need when looking for the perfect place.<br />\n&nbsp\;<br />\nTopics that will be discussed during the panel discussion include: lending and interest rates\, home inspections\, insurance and various programs that can assist you in the home buying process.<br />\n<br />\nPanelists at the event include:<br />\n&bull\;&nbsp\;&nbsp\; &nbsp\;George Gannon\, West Virginia Housing Development Fund<br />\n&bull\;&nbsp\;&nbsp\; &nbsp\;Emiliee Love\, mortgage lender\, United Bank<br />\n&bull\;&nbsp\;&nbsp\; &nbsp\;Teri Rugeley\, realtor\, Old Colony<br />\n&bull\;&nbsp\;&nbsp\; &nbsp\;Don Wilson\, insurance agent\, Garlow Insurance Agency<br />\n&bull\;&nbsp\;&nbsp\; &nbsp\;Joey Garcia\, recent homebuyer<br />\n<br />\nThe event is free to attend\, but RSVP is required.<br />\n<br />\nRefreshments will be provided.<br />\n<br />\nGeneration Charleston: Live\, Work\, Play!
LOCATION:Habitat For Humanity Homeowner Education & Community Center 815 Court St Charleston\, WV 25301 Parking: The entrance to the Homeowner Education & Community Center is on the left on Court Street as you approach Piedmont Road. The ReStore asks that you use the parking lot serving that end of the building. From the intersection of Court Street and Piedmont Road\, turn right onto Piedmont toward the entrance to Green's Feed and Seed. The ReStore parking lot entrance is on the right\, opposite Green's entrance.
UID:e.1499.664
SEQUENCE:3
DTSTAMP:20260422T040058Z
URL:https://business.charlestonareaalliance.org/events/details/generation-charleston-and-west-virginia-housing-development-fund-homebuyers-blueprint-10-10-2013-664
END:VEVENT

END:VCALENDAR
