BEGIN:VCALENDAR
VERSION:2.0
PRODID:-//ChamberMaster//Event Calendar 2.0//EN
METHOD:PUBLISH
X-PUBLISHED-TTL:P3D
REFRESH-INTERVAL:P3D
CALSCALE:GREGORIAN
BEGIN:VEVENT
DTSTART:20110903T040000Z
DTEND:20110903T040000Z
X-MICROSOFT-CDO-ALLDAYEVENT:FALSE
SUMMARY:Generation Charleston 5-on-5 Basketball Invitational 2011
DESCRIPTION:
X-ALT-DESC;FMTTYPE=text/html:
LOCATION:Kanawha Boulvard near Haddad Riverfront Park
UID:e.1499.406
SEQUENCE:3
DTSTAMP:20260424T205729Z
URL:https://business.charlestonareaalliance.org/events/details/generation-charleston-5-on-5-basketball-invitational-2011-09-03-2011-406
END:VEVENT

END:VCALENDAR
