BEGIN:VCALENDAR
VERSION:2.0
PRODID:-//ChamberMaster//Event Calendar 2.0//EN
METHOD:PUBLISH
X-PUBLISHED-TTL:P3D
REFRESH-INTERVAL:P3D
CALSCALE:GREGORIAN
BEGIN:VEVENT
DTSTART:20160526T213000Z
DTEND:20160526T230000Z
X-MICROSOFT-CDO-ALLDAYEVENT:FALSE
SUMMARY:GC Social Hour - May 2016
DESCRIPTION:Generation Charleston's Social Hour will be at the Pickering Associates at 5:30 p.m. Thursday\, May 26. \n\n\n\nJoin us for the opportunity to mix and mingle with the area's young talent.  \n\n\n\nGC Social Hour is always open to the public with no admission fee\, but RSVP is required.\n\n\n\nMix and mingle with Generation Charleston and the rest of city's young talent.\n\n\n\nGeneration Charleston: Live\, Work\, Play
X-ALT-DESC;FMTTYPE=text/html:<p>Generation Charleston&#39\;s Social Hour&nbsp\;will be&nbsp\;at the Pickering Associates&nbsp\;at 5:30 p.m. Thursday\, May 26.&nbsp\;<br />\n<br />\nJoin us for the opportunity to mix and mingle with the area&#39\;s young talent.&nbsp\;&nbsp\;<br />\n<br />\nGC Social Hour&nbsp\;is always open to the public with no admission fee\, but RSVP is required.<br />\n<br />\nMix and mingle with Generation Charleston and the rest of city&#39\;s young talent.<br />\n<br />\nGeneration Charleston: Live\, Work\, Play</p>\n
LOCATION:318 Lee St W Charleston\, WV 25302
UID:e.1499.1860
SEQUENCE:3
DTSTAMP:20260420T121130Z
URL:https://business.charlestonareaalliance.org/events/details/gc-social-hour-may-2016-05-26-2016-1860
END:VEVENT

END:VCALENDAR
