BEGIN:VCALENDAR
VERSION:2.0
PRODID:-//ChamberMaster//Event Calendar 2.0//EN
METHOD:PUBLISH
X-PUBLISHED-TTL:P3D
REFRESH-INTERVAL:P3D
CALSCALE:GREGORIAN
BEGIN:VEVENT
DTSTART:20160708T213000Z
DTEND:20160708T230000Z
X-MICROSOFT-CDO-ALLDAYEVENT:FALSE
SUMMARY:GC Social Hour - July 2016
DESCRIPTION:Generation Charleston's Social Hour will be at the Vino's at 5:30 pm Friday\, July 8. After that\, GC will head over to Haddad Riverfront Park for Live on the Levee featuring performances by Chase Likens and Bucky Covington. \n\n\n\nJoin us for the opportunity to mix and mingle with the area's young talent.  \n\n\n\nGC Social Hour is always open to the public with no admission fee\, but RSVP is required.\n\n\n\nMix and mingle with Generation Charleston and the rest of city's young talent.\n\n\n\nGeneration Charleston: Live\, Work\, Play
X-ALT-DESC;FMTTYPE=text/html:<p>Generation Charleston&#39\;s Social Hour&nbsp\;will be&nbsp\;at the Vino&#39\;s&nbsp\;at 5:30 pm&nbsp\;Friday\, July 8. After that\, GC will head over to Haddad Riverfront Park for Live on the Levee featuring performances by Chase Likens and Bucky Covington.&nbsp\;<br />\n<br />\nJoin us for the opportunity to mix and mingle with the area&#39\;s young talent.&nbsp\;&nbsp\;<br />\n<br />\nGC Social Hour&nbsp\;is always open to the public with no admission fee\, but RSVP is required.<br />\n<br />\nMix and mingle with Generation Charleston and the rest of city&#39\;s young talent.<br />\n<br />\nGeneration Charleston: Live\, Work\, Play</p>\n
LOCATION:812 Kanawha Blvd. E. Charleston\, WV 25301
UID:e.1499.1870
SEQUENCE:3
DTSTAMP:20260420T093325Z
URL:https://business.charlestonareaalliance.org/events/details/gc-social-hour-july-2016-07-08-2016-1870
END:VEVENT

END:VCALENDAR
