BEGIN:VCALENDAR
VERSION:2.0
PRODID:-//ChamberMaster//Event Calendar 2.0//EN
METHOD:PUBLISH
X-PUBLISHED-TTL:P3D
REFRESH-INTERVAL:P3D
CALSCALE:GREGORIAN
BEGIN:VEVENT
DTSTART:20160203T223000Z
DTEND:20160204T000000Z
X-MICROSOFT-CDO-ALLDAYEVENT:FALSE
SUMMARY:GC Social Hour - Feb 2016
DESCRIPTION:Generation Charleston's Social Hour will be at the Red Carpet Lounge at 5:30 p.m. Wednesday\, February 3. \n\n\n\nJoin us for the opportunity to mix and mingle with the area's young talent.  \n\n\n\nGC Social Hour is always open to the public with no admission fee\, but RSVP is required.\n\n\n\nMix and mingle with Generation Charleston and the rest of city's young talent.\n\n\n\nGeneration Charleston: Live\, Work\, Play
X-ALT-DESC;FMTTYPE=text/html:<p>Generation Charleston&#39\;s Social Hour&nbsp\;will be&nbsp\;at the Red Carpet Lounge at 5:30 p.m. Wednesday\, February&nbsp\;3.&nbsp\;</p>\n\n<p><br />\nJoin us for the opportunity to mix and mingle with the area&#39\;s young talent.&nbsp\;&nbsp\;<br />\n<br />\nGC Social Hour&nbsp\;is always open to the public with no admission fee\, but RSVP is required.<br />\n<br />\nMix and mingle with Generation Charleston and the rest of city&#39\;s young talent.<br />\n<br />\nGeneration Charleston: Live\, Work\, Play</p>\n
LOCATION:308 Elizabeth St Charleston\, WV 25301
UID:e.1499.824
SEQUENCE:3
DTSTAMP:20260420T155649Z
URL:https://business.charlestonareaalliance.org/events/details/gc-social-hour-feb-2016-02-03-2016-824
END:VEVENT

END:VCALENDAR
