BEGIN:VCALENDAR
VERSION:2.0
PRODID:-//ChamberMaster//Event Calendar 2.0//EN
METHOD:PUBLISH
X-PUBLISHED-TTL:P3D
REFRESH-INTERVAL:P3D
CALSCALE:GREGORIAN
BEGIN:VEVENT
DTSTART:20150604T210000Z
DTEND:20150604T230000Z
X-MICROSOFT-CDO-ALLDAYEVENT:FALSE
SUMMARY:GC Social Hour at Timothy's - June 2015
DESCRIPTION:Generation Charleston will host its monthly Social Hour event 5   7 p.m. Thursday\, June 4 Timothy's in Quarrier Diner at 1022 Quarrier Streeet.  \n\nSocial Hour gives members the opportunity to socialize and network with other young professionals in a relaxed setting. Social Hour is hosted at a different venue each month\, introducing members to new and diverse establishments.\n\n\n\nSocial Hour is open to the public with no admission fee. However\, guests are required to register online to attend.
X-ALT-DESC;FMTTYPE=text/html:<p>Generation Charleston will host its monthly Social Hour event 5 &ndash\; 7 p.m. Thursday\,&nbsp\;June 4&nbsp\;Timothy&#39\;s in Quarrier Diner at 1022 Quarrier Streeet.&nbsp\;&nbsp\;</p>\n\n<p>Social Hour gives members the opportunity to socialize and network with other young professionals in a relaxed setting. Social Hour is hosted at a different venue each month\, introducing members to new and diverse establishments.<br />\n<br />\nSocial Hour is open to the public with no admission fee. However\, guests are required to register online to attend.<br />\n<br />\n&nbsp\;</p>\n
LOCATION:Timothy's at Quarrier Diner 1022 Quarrier Street Charleston\, WV 25301
UID:e.1499.787
SEQUENCE:3
DTSTAMP:20260421T031334Z
URL:https://business.charlestonareaalliance.org/events/details/gc-social-hour-at-timothy-s-june-2015-06-04-2015-787
END:VEVENT

END:VCALENDAR
