BEGIN:VCALENDAR
VERSION:2.0
PRODID:-//ChamberMaster//Event Calendar 2.0//EN
METHOD:PUBLISH
X-PUBLISHED-TTL:P3D
REFRESH-INTERVAL:P3D
CALSCALE:GREGORIAN
BEGIN:VEVENT
DTSTART:20150710T213000Z
DTEND:20150710T233000Z
X-MICROSOFT-CDO-ALLDAYEVENT:FALSE
SUMMARY:GC Social Hour at the Copper Pint Irish Pub - July 2015
DESCRIPTION:Generation Charleston will host its monthly Social Hour event 5:30   7:30 p.m. Friday\, July 10 at the Copper Pint Irish Pub at 808 Kanawha Boulevard.  \n\nSocial Hour gives members the opportunity to socialize and network with other young professionals in a relaxed setting. Social Hour is hosted at a different venue each month\, introducing members to new and diverse establishments.\n\n\n\nSocial Hour is open to the public with no admission fee. However\, guests are required to register online to attend.
X-ALT-DESC;FMTTYPE=text/html:<p>Generation Charleston will host its monthly Social Hour event 5:30 &ndash\; 7:30 p.m.&nbsp\;Friday\, July 10&nbsp\;at the Copper Pint Irish Pub&nbsp\;at 808&nbsp\;Kanawha Boulevard. &nbsp\;</p>\n\n<p>Social Hour gives members the opportunity to socialize and network with other young professionals in a relaxed setting. Social Hour is hosted at a different venue each month\, introducing members to new and diverse establishments.<br />\n<br />\nSocial Hour is open to the public with no admission fee. However\, guests are required to register online to attend.<br />\n<br />\n&nbsp\;</p>\n
LOCATION:The Copper Pint Irish Pub 808 Kanawha Boulevard Charleston\, WV 25301
UID:e.1499.792
SEQUENCE:3
DTSTAMP:20260421T030713Z
URL:https://business.charlestonareaalliance.org/events/details/gc-social-hour-at-the-copper-pint-irish-pub-july-2015-07-10-2015-792
END:VEVENT

END:VCALENDAR
